{"text_format":"3","workbook":"xlsx","n_sheets":10,"sheets":["FEGL_MASTER","A DIV","B DIV","$A","$B","Schedule","Captains","Quota","$Out","Sheet1"],"not_rendered":{"defined_names":4},"read":"whole","date_system":"1900"}

{"sheet":"FEGL_MASTER","index":0,"n_rows":229,"n_cols":20,"rows_kept":229}
[220,"Team No. 1","Quota","Phone","E-Mail","Member",1,2,3,4,5,6,7,8,9,10]
[221,"Danny Vrla",{"$f":"IF(ROUND(AVERAGE(G2:T2),0) < 9,9,(IF(ROUND(AVERAGE(G2:T2),0) > 25,25,ROUND(AVERAGE(G2:T2),0))))","v":22},21990,"danny.e.vrla@lmco.com","Yes",24,20,23,23,null,22,null,21,22]
[222,"Dick Miller",22,54632,"dick.a.miller@lmco.com","No",22,23,{"$nulls":9},21,21,21]
[223,"Charlie Bean",{"$f":"IF(ROUND(AVERAGE(G4:T4),0) < 9,9,(IF(ROUND(AVERAGE(G4:T4),0) > 25,25,ROUND(AVERAGE(G4:T4),0))))","v":25},54613,"william.c.bean.jr@lmco.com","No",30,25,26,24,null,29,null,23,27]
[224,"Bryan Goble",15,{"$nulls":3},10,null,18,15,null,15,null,15,19]
[225,"Rod Newberry",20,{"$nulls":4},18,18,21,null,20,null,22]
[226]
[227]
[228," ",{"$f":"SUM(C2:C8)/5","v":20.8}]
[300,"Team No. 2","Quota","Phone","E-Mail","Member"]
[301,"Bill Blackwell",{"$f":"IF(ROUND(AVERAGE(G11:T11),0) < 9,9,(IF(ROUND(AVERAGE(G11:T11),0) > 25,25,ROUND(AVERAGE(G11:T11),0))))","v":25}," 300-4915","billblackwell@sbcglobal.net","B136",29,23,27,23,{"$nulls":3},24,26]
[302,"Tom Schlueter",24,"713-8664","tomeschlueter@yahoo.com","No",25,25,24,23,null,23,null,24,27,null,null," "]
[303,"Scott Howell",23,"565-9229","scott.howell@lmco.com","H6",null,22,24,22,null,21,null,null,26,null," "]
[304,"Greg Byrnes",24,"233-3340","greg.j.byrnes@lmco.com","B003",22,24,{"$nulls":3},24,null,null,25,{"$nulls":4},23]
[305,"Marylou Anderson",18,null,"mirrikat@aol.com","No",{"$nulls":10},18,18,18,18]
[306,"Susan Blackwell",16,"871-689-5606","susan60girl@sbcglobal.net","B136F1",11,null,15,17,null,18,null,17]
[307,{"$nulls":15}," "," "," "," "]
[null,null,{"$f":"SUM(C11:C17)/6","v":21.666666666666668}]
[200,"Team No. 3","Quota","Phone","E-Mail","Member"]
[201,"Craig Treece",{"$f":"IF(ROUND(AVERAGE(G20:T20),0) < 9,9,(IF(ROUND(AVERAGE(G20:T20),0) > 25,25,ROUND(AVERAGE(G20:T20),0))))","v":18},"988-4895","craig.s.treece@lmco.com","T18",15,12,20,null,null,21,null,18,19,null,null," "]
[202,"Terry Hay",{"$f":"IF(ROUND(AVERAGE(G21:T21),0) < 9,9,(IF(ROUND(AVERAGE(G21:T21),0) > 25,25,ROUND(AVERAGE(G21:T21),0))))","v":18},"925-5064","tkjahay@sbcglobal.net"," ",null,17,null,20,{"$nulls":3},20,{"$nulls":4},16,16]
[203,"Scott Rudin",22,31068,"scott.a.rudin@lmco.com","No",21,19,24,24,null,22,null,21,25,null,null," "]
[204,"Peter Stanfill",20,54705,"Peter.O.Stanfill@lmco.com","Yes",21,null,20,21,null,17,{"$nulls":4}," ",null,null,22]
[205,"Greg Larson",20,"734-9807 ","glarson423@gmail.com","Yes",22,19,null,20,null,23,null,17]
[206]
[207]
[null,null,{"$f":"SUM(C20:C26)/5","v":19.6}]
[260,"Team No. 4","Quota","Phone","E-Mail","Member"]
[261,"Roy Mayes",{"$f":"IF(ROUND(AVERAGE(G29:T29),0) < 9,9,(IF(ROUND(AVERAGE(G29:T29),0) > 25,25,ROUND(AVERAGE(G29:T29),0))))","v":18},"980-5175","roy.a.mayes@charter.net","No",19,17,21,15,null,18,null,20]
[262,"Steve Burre",{"$f":"IF(ROUND(AVERAGE(G30:T30),0) < 9,9,(IF(ROUND(AVERAGE(G30:T30),0) > 25,25,ROUND(AVERAGE(G30:T30),0))))","v":19},null,"steve.p.burre@lmco.com","B62",20,18,19,19,null,16,null,19,25]
[263,"Paul Parker",{"$f":"IF(ROUND(AVERAGE(G31:T31),0) < 9,9,(IF(ROUND(AVERAGE(G31:T31),0) > 25,25,ROUND(AVERAGE(G31:T31),0))))","v":21},null,null,"No",21,20,{"$nulls":3},19,null,23,23]
[264,"Paul Loken",{"$f":"IF(ROUND(AVERAGE(G32:T32),0) < 9,9,(IF(ROUND(AVERAGE(G32:T32),0) > 25,25,ROUND(AVERAGE(G32:T32),0))))","v":20},null,null,"No",20,22,24,18,null,17,null,19,20]
[265,"Richard Rutledge",{"$f":"IF(ROUND(AVERAGE(G33:T33),0) < 9,9,(IF(ROUND(AVERAGE(G33:T33),0) > 25,25,ROUND(AVERAGE(G33:T33),0))))","v":13},{"$nulls":5},13,10,{"$nulls":4},15,null," "," "," "," "]
[266]
[267]
[null,null,{"$f":"SUM(C29:C35)/5","v":18.2}]
[280,"Team No. 5","Quota","Phone","E-Mail","Member"]
[281,"Carl Jettun",{"$f":"IF(ROUND(AVERAGE(G38:T38),0) < 9,9,(IF(ROUND(AVERAGE(G38:T38),0) > 25,25,ROUND(AVERAGE(G38:T38),0))))","v":18},76907,"carl.w.jettun@lmco.com","No",null,14,21,{"$nulls":8},18,18,18]
[282,"Terry Williams",19,{"$nulls":3},22,17,null,16,null,16,null,19,23]
[283,"Ron Garvin",22,{"$nulls":3},19,null,25,null,null,18,null,22,25]
[284,"Danny Uselton",19,77295,"danny.p.uselton@lmco.com","Yes",16,17,18,18,{"$nulls":3},24,21]
[285,"Lane Massie",25,77640,null,"M10",27,null,26,25,null,22,{"$nulls":7},25]
[286,"Susan Ethetton",9,58068,{"$nulls":3},7,null,6,null,4,null,8,6]
[287]
[null,null,{"$f":"SUM(C38:C44)/6","v":18.666666666666668}]
[250,"Team No. 6","Quota","Phone","E-Mail","Member"]
[251,"Chris Sell",{"$f":"IF(ROUND(AVERAGE(G47:T47),0) < 9,9,(IF(ROUND(AVERAGE(G47:T47),0) > 25,25,ROUND(AVERAGE(G47:T47),0))))","v":23},32476,"chris.j.sell@lmco.com","S45",18,25,25,null,null,22,null,25,25]
[252,"James Kilpatrick",15,"584-7449","kilpajf@att.net","no",null,null,18,14,{"$nulls":3},18,11]
[253,"Sharon Scharbach",9,"682-225-3586","Sharon.l.scharbach"," ",{"$nulls":5},3]
[254,"Frank Gallison",21,75273,"frank.s.gallison@lmco.com","G45",25,22,15,20,null,21,null,20,26]
[256,"Joe Revay",18,58921,"joe.revay@lmco.com","R24",19,18,15,20,null,14,null,17,20]
[257,"Tom Imboden",17,{"$nulls":3},18,11,null,14,{"$nulls":3},17,23]
[]
[null,null,{"$f":"SUM(C47:C53)/6","v":17.166666666666668}]
[270,"Team No. 7","Quota","Phone","E-Mail","Member"]
[271,"Mike Kimble",{"$f":"IF(ROUND(AVERAGE(G56:T56),0) < 9,9,(IF(ROUND(AVERAGE(G56:T56),0) > 25,25,ROUND(AVERAGE(G56:T56),0))))","v":23},"797-7889","maad98@yahoo.com ","No",null,22,23,20,null,21,null,24,27]
[272,"Duane Casey",17,77924,"duane.casey@lmco.com","C11",18,18,22,11,null,20,null,16,16,null,null," "]
[273,"Chris Tarpley",{"$f":"IF(ROUND(AVERAGE(G58:T58),0) < 9,9,(IF(ROUND(AVERAGE(G58:T58),0) > 25,25,ROUND(AVERAGE(G58:T58),0))))","v":22},{"$nulls":3},23,26,{"$nulls":9},21,21,21]
[274,"Bob Madewell",15,null,"bob.a.madewell@lmco.com",null,14,16,21,7,null,17,null,19,13]
[275,"Dave Watson",19,{"$nulls":5},19,20,null,20,null,17,19]
[276]
[277]
[null,null,{"$f":"SUM(C56:C62)/5","v":19.2}]
[210,"Team No. 8","Quota","Phone","E-Mail","Member"]
[211,"Dennis McBrayer",{"$f":"IF(ROUND(AVERAGE(G65:T65),0) < 9,9,(IF(ROUND(AVERAGE(G65:T65),0) > 25,25,ROUND(AVERAGE(G65:T65),0))))","v":17},73500,"dennis.l.mcbrayer@gmail.com"," ",19,13,{"$nulls":6},20,{"$nulls":3},16,16]
[211,"Mark Melanson",21,31760,"mark.r.melanson@lmco.com","M120",22,null,19,{"$nulls":4},24,{"$nulls":4},19,19]
[212,"Kelly Whitfield",23,33607,"kelly.e.whitfield@lmco.com","W14",null,21,26,21,null,27,null,20,22]
[213,"Jim Norris",19,71600,"James.p.norris@lmco.com","N11",19,16,23,16,null,18,null,21]
[214,"Bill Margolis",13,76214,"Bill.margolis@lmco.com","M145",{"$nulls":10},13,13,13,13]
[215,"Steven Floyd",19," "," "," ",18,null,22,15,null,16,null,null,22]
[null,"Dan Lawrence",24,{"$nulls":4},26,22,null,null,24,null,22]
[null,null,{"$f":"SUM(C65:C71)/7","v":19.428571428571427}]
[60,"Team No. 9","Quota","Phone","E-Mail","M. Z."]
[61,"David Miley",{"$f":"IF(ROUND(AVERAGE(G74:T74),0) < 9,9,(IF(ROUND(AVERAGE(G74:T74),0) > 25,25,ROUND(AVERAGE(G74:T74),0))))","v":14},"319-6593","david@themileys.net",null,null,16,12,12,null,17,null,12,null,null,"                                       "]
[62,"Butch Morrison",13,null,"butcher0412@hotmail.com",{"$nulls":6},12,null,12,15]
[63,"Bruce Pruitt",13,53290,"bruce.e.pruitt@lmco.com",null,11,null,9,15,null,16,null,null,15,null," "]
[64,"Tony Wedgeworth",21,"925-8492","tonywedgeworth@gmail.com",null,25,19,15,23,null,20,null,22,22,null,null," "]
[65,"Josh Lewis",{"$f":"IF(ROUND(AVERAGE(G78:T78),0) < 9,9,(IF(ROUND(AVERAGE(G78:T78),0) > 25,25,ROUND(AVERAGE(G78:T78),0))))","v":17},"935-3370","joshua.b.lewis@lmco.com",null,24,16,null,16,{"$nulls":4},15,{"$nulls":4},14]
[66,"Rowdy Yates",{"$f":"IF(ROUND(AVERAGE(G79:T79),0) < 9,9,(IF(ROUND(AVERAGE(G79:T79),0) > 25,25,ROUND(AVERAGE(G79:T79),0))))","v":11},null,"robert.l.yates@lmco.com",null,13,null,8,null,null,14,null,12,8,null," "]
[]
[null,null,{"$f":"SUM(C74:C80)/6","v":14.833333333333334}]
[190,"Team No. 10","Quota","Phone","E-Mail","Member"]
[191,"Frankie Kubenka",{"$f":"IF(ROUND(AVERAGE(G83:T83),0) < 9,9,(IF(ROUND(AVERAGE(G83:T83),0) > 25,25,ROUND(AVERAGE(G83:T83),0))))","v":16},76021,"frankie.j.kubenka@lmco.com","K-17",9,20,17,21,null,16,null,12,18,null,null," "]
[192,"Marty James",{"$error":"#DIV/0!"},71492,null,"Yes"]
[193,"Oliver Benfer",13,71492,"oliver.w.benfer@lmco.com","Yes",13,13,10,13,{"$nulls":3},12,16,null,null," "]
[194,"Tom Marrs",14," ",null,"No",{"$nulls":10},14,14,14,14]
[195,"Louis Gonzalez",19," ",null,"G8",19,18,null,17,null,20,null,18,22]
[196,"J R Martinez",15,{"$nulls":13},15,15,15,15]
[197,"Joe Edmiston",14,{"$nulls":3},12,13,16,18,null,15,null,null,11]
[null,null,{"$f":"SUM(C83:C89)/7","v":{"$error":"#DIV/0!"}}]
[110,"Team No. 11","Quota","Phone","E-Mail","Member"]
[111,"David Ayrault",{"$f":"IF(ROUND(AVERAGE(G92:T92),0) < 9,9,(IF(ROUND(AVERAGE(G92:T92),0) > 25,25,ROUND(AVERAGE(G92:T92),0))))","v":16},23121,"david.j.ayrault@lmco.com","A23",18,12,20,12,null,20,null,12,21,null,null," "]
[112,"Rick Ellis",15,75252,"rick.a.ellis@lmco.com","No",17,14,18,null,null,10,null,null,18,null,null," "]
[113,"Steve Matney",18,"935-4435","stephen.d.matney@lmco.com","yes",19,17,20,18,null,21,null,13,{"$nulls":3}," "]
[114,"Stewart Coley",20,null," stewart.coley@gmail.com","No",17,17,null,23,{"$nulls":8},21,21]
[115,"Mitch Kaarlela",{"$error":"#DIV/0!"},53486,"mitchell.l.kaarlela@lmco.com","No"]
[116,"Rick Lang",19,null,"rjlang1949@gmail.com","No",13,18,null,17,null,19,null,21,26]
[117,"Billy Coyle",18,74951,null,"No",null,null,17,24,{"$nulls":3},22,13,{"$nulls":4},16]
[null,null,{"$f":"SUM(C92:C98)/6","v":{"$error":"#DIV/0!"}}]
[140,"Team No. 12","Quota","Phone","E-Mail","Member"]
[141,"Jason DeLong",{"$f":"IF(ROUND(AVERAGE(G101:T101),0) < 9,9,(IF(ROUND(AVERAGE(G101:T101),0) > 25,25,ROUND(AVERAGE(G101:T101),0))))","v":25},"903-275-9026","jason.l.delong@lmco.com",null,25,24,25,25,null,26,null,24,27]
[142,"Travis Libby",16,"944-5610",null,null,15,18,12,null,null,17,null,null,17,null,null," "]
[143,"Aaron Corby",18,"713-6661",{"$nulls":3},17,16,17,null,18,null,21,20]
[144,"Kyle Bottom",20,"805-3307",null,null,18,19,19,24,null,19,null,20,22]
[145,"Brad Dittmar",{"$f":"IF(ROUND(AVERAGE(F105:T105),0) < 9,9,(IF(ROUND(AVERAGE(F105:T105),0) > 25,25,ROUND(AVERAGE(F105:T105),0))))","v":20},{"$nulls":16},20]
[146]
[]
[null,null,{"$f":"SUM(C101:C107)/5","v":19.8}]
[40,"Team No. 13","Quota","Phone","E-Mail","Member"]
[41,"Charlie Lambert",{"$f":"IF(ROUND(AVERAGE(G110:T110),0) < 9,9,(IF(ROUND(AVERAGE(G110:T110),0) > 25,25,ROUND(AVERAGE(G110:T110),0))))","v":15},"675-7505","charlielambert@charter.net","L31",15,19,15,14,null,16,null,14,10,null,null," "]
[42,"DeWayne Cox",20,"798-8872","dewaynecox@uwmail.com",null,16,21,24,14,null,25,null,20,18,null,null," "]
[43,"Joe Andrews",15,"935-3499","joe.e.andrews@lmco.com","A67",13,11,11,13,null,18,null,17,20,null,null," "]
[44,"Dan Longeway",16,"229-7058","dan.comxx@charter.net",{"$nulls":11},16,16,16,16]
[46,"Cheryl Lambert",{"$f":"IF(ROUND(AVERAGE(G114:T114),0) < 9,9,(IF(ROUND(AVERAGE(G114:T114),0) > 25,25,ROUND(AVERAGE(G114:T114),0))))","v":9},null,"cheryl.lambert@lmco.com","L31F1",6,8,11,8,null,5,null,4,15]
[47]
[47]
[null,null,{"$f":"SUM(C110:C116)/5","v":15}]
[170,"Team No. 14","Quota","Phone","E-Mail","Member"]
[171,"Bob Bienski",{"$f":"IF(ROUND(AVERAGE(G119:T119),0) < 9,9,(IF(ROUND(AVERAGE(G119:T119),0) > 25,25,ROUND(AVERAGE(G119:T119),0))))","v":20},"521-8043","bobbybienski@gmail.com","B144",{"$nulls":8},23,null,19,19,19,19]
[172,"James Barkelew",17,77918,"James.H.Barkelew@lmco.com",null,13,19,20,15,null,17,null,19,16]
[173,"Wayne Maddox",18,"560-7323","waymad@juno.com","M49",15,null,null,18,null,19,null,21,15]
[174,"Jack Young",12,79770,"jack.b.young@lmco.com","N",16,11,12,7,null,10,null,13]
[175,"Jorge Cornejo",12,77562,"Jorge.W.Cornejo@lmco.com","C126",null,null,11,12,null,10,{"$nulls":6},14,14]
[176,"Garnett Andrews",9,23664,"garnett.andrews@lmco.com","N",{"$nulls":10},9,9,9,9]
[176,"Jerry Burns",15,null,"jerry.a.burns@lmco.com",null,null,13,14,{"$nulls":5},19]
[null,null,{"$f":"SUM(C119:C125)/7","v":14.714285714285714}]
[130,"Team No. 15","Quota","Phone","E-Mail","Member"]
[131,"Dave Utech",{"$f":"IF(ROUND(AVERAGE(G128:T128),0) < 9,9,(IF(ROUND(AVERAGE(G128:T128),0) > 25,25,ROUND(AVERAGE(G128:T128),0))))","v":11},53074," david.b.utech@lmco.com","No",13,12,null,9,null,13,{"$nulls":7},9]
[132,"Bill Rater",14,"retired","Bill@theraters.us","Yes",16,10,15,{"$nulls":4},14,{"$nulls":5},13]
[133,"Gary Keller",20,"retired","GCPRO@sbcglobal.net","Yes",null,null,24,22,null,20,null,12,22]
[134,"James Miller",12,36836,"james.a.miller@lmco.com","No",{"$nulls":3},15,null,11,null,12,11,{"$nulls":4},12]
[135,"Gary Howard",23,"501-0370","gary.howard@lmco.com",null,21,null,23,null,null,25,null,null,26,{"$nulls":4},22]
[136,"Kevan Western",12,54008,"kevan.d.western@lmco.com","No",{"$nulls":10},12,12,12,12]
[137,"Mark Johnston",16,{"$nulls":4},12,20,13,{"$nulls":3},16,19]
[null,null,{"$f":"SUM(C128:C134)/7","v":15.428571428571429}]
[50,"Team No. 16","Quota","Phone","E-Mail","Member"]
[51,"Ken Wood",{"$f":"IF(ROUND(AVERAGE(G137:T137),0) < 9,9,(IF(ROUND(AVERAGE(G137:T137),0) > 25,25,ROUND(AVERAGE(G137:T137),0))))","v":18},"987-9538","ken.d.wood@lmco.com","No",17,17,null,19,{"$nulls":3},20,18]
[52,"Paul Rowland",21," ",null,"yes",{"$nulls":3},20,null,21,null,null,22,{"$nulls":3},21,21]
[53,"Mike Hester",15,78193,"michael.l.hester@lmco.com","H70",14,14,null,14,null,16,null,14,16]
[54,"Scott Horn",11,"763-2602 ","scott.e.horn@lmco.com",{"$nulls":3},12,{"$nulls":5},9,null," "," "," "," "]
[55,"Kevin Smiley",18,{"$nulls":4},11,22,{"$nulls":4},17,{"$nulls":4},19,19]
[56,"Lance Eddins",17,{"$nulls":3},21,null,18,14,null,14,null,17]
[57,"William Renshaw",12,72870,"william.m.renshaw@lmco.com","No",null,11,14,null,null,15,{"$nulls":6},11,11]
[null,null,{"$f":"SUM(C137:C143)/7","v":16}]
[90,"Team No. 17","Quota","Phone","E-Mail","Member"]
[91,"Danny Watson",{"$f":"IF(ROUND(AVERAGE(G146:T146),0) < 9,9,(IF(ROUND(AVERAGE(G146:T146),0) > 25,25,ROUND(AVERAGE(G146:T146),0))))","v":13},"229-7747 ","dannyr47@att.net","No",13,13,13,11,null,11,null,14,14]
[92,"Billy Keck",{"$f":"IF(ROUND(AVERAGE(G147:T147),0) < 9,9,(IF(ROUND(AVERAGE(G147:T147),0) > 25,25,ROUND(AVERAGE(G147:T147),0))))","v":21},"270-2575","billykeck@gmail.com","No",22,10,27,22,{"$nulls":4},23]
[93,"Scott Conder",{"$f":"IF(ROUND(AVERAGE(G148:T148),0) < 9,9,(IF(ROUND(AVERAGE(G148:T148),0) > 25,25,ROUND(AVERAGE(G148:T148),0))))","v":15},"682-556-1140","scottconder1@msn.com","No",17,13,15,15,null,16,null,13,17]
[94,"Richard Roye",{"$f":"IF(ROUND(AVERAGE(G149:T149),0) < 9,9,(IF(ROUND(AVERAGE(G149:T149),0) > 25,25,ROUND(AVERAGE(G149:T149),0))))","v":12},"441-7762","rroye@aledobb.com         ",null,13,14,12,9,null,11,null,12,15]
[95,"Phil Rigdon",{"$f":"IF(ROUND(AVERAGE(G150:T150),0) < 9,9,(IF(ROUND(AVERAGE(G150:T150),0) > 25,25,ROUND(AVERAGE(G150:T150),0))))","v":14},"991-7246","pnrigdon@msn.com",null,17,{"$nulls":4},8,null,14,{"$nulls":4},15,15]
[]
[]
[null,null,{"$f":"SUM(C146:C152)/5","v":15}]
[20,"Team No. 18","Quota","Phone","E-Mail","Member"]
[21,"Rob Donald",{"$f":"IF(ROUND(AVERAGE(G155:T155),0) < 9,9,(IF(ROUND(AVERAGE(G155:T155),0) > 25,25,ROUND(AVERAGE(G155:T155),0))))","v":10},"682-444-6503","robert.a.donald@lmco.com","yes",12,11,null,5,{"$nulls":4},8,{"$nulls":4},12]
[22,"Steve Shinn",{"$f":"IF(ROUND(AVERAGE(G156:T156),0) < 9,9,(IF(ROUND(AVERAGE(G156:T156),0) > 25,25,ROUND(AVERAGE(G156:T156),0))))","v":12},53852,"steven.c.shinn@lmco.com","No",null,10,{"$nulls":5},13,{"$nulls":3},12,12,12]
[23,"Eric Gunn",{"$f":"IF(ROUND(AVERAGE(G157:T157),0) < 9,9,(IF(ROUND(AVERAGE(G157:T157),0) > 25,25,ROUND(AVERAGE(G157:T157),0))))","v":18},"623-628-3806","eric.gunn@lmco.com",null,16,20,null,18,null,16,null,21,16]
[24,"John Supra",{"$f":"IF(ROUND(AVERAGE(G158:T158),0) < 9,9,(IF(ROUND(AVERAGE(G158:T158),0) > 25,25,ROUND(AVERAGE(G158:T158),0))))","v":10},"817-682-4182","john.e.supra@lmco.com",null,12,null,11,9,null,8,null,9]
[25,"Ann Godbey",{"$f":"IF(ROUND(AVERAGE(G159:T159),0) < 9,9,(IF(ROUND(AVERAGE(G159:T159),0) > 25,25,ROUND(AVERAGE(G159:T159),0))))","v":11},"935-5219","ann.t.godbey@lmco.com",null,null,11,11,9,{"$nulls":4},12]
[null,"Ryan Monroe",14,"850-543-1641","ryan.t.monroe@lmco.com",{"$nulls":3},15,null,null,14,null,12,13]
[]
[null,null,{"$f":"SUM(C155:C161)/6","v":12.5}]
[30,"Team No. 19","Quota","Phone","E-Mail","Member"]
[31,"Ken Fairchild",{"$f":"IF(ROUND(AVERAGE(G164:T164),0) < 9,9,(IF(ROUND(AVERAGE(G164:T164),0) > 25,25,ROUND(AVERAGE(G164:T164),0))))","v":10},77828,"kenneth.l.fairchild@lmco.com","F4",null,null,9,null,null,9,null,12,{"$nulls":4},9,9]
[32,"Tim Edwards",14,null,"timothy.a.edwards@lmco.com","E4",14,null,14,13,null,17,null,13,12]
[33,"Jerry Burns",9,76717,null,"yes",null,6,{"$nulls":3},8,{"$nulls":5},11,11,11]
[34,"Ranier Woods",13," ",null,"No",10,null,null,15,{"$nulls":3},15,15,{"$nulls":4},12]
[35,"Dale Rostamo",21,null,null,"R48",22,18,20,23,null,23]
[null,"James Prescott",13,"925-6799",null,"yes",14,16,15,12,{"$nulls":3},9,12]
[]
[null,null,{"$f":"SUM(C164:C169)/6","v":13.333333333333334}]
[180,"Team No. 20","Quota","Phone","E-Mail","Member"]
[181,"Dennis Weber",{"$f":"IF(ROUND(AVERAGE(G173:T173),0) < 9,9,(IF(ROUND(AVERAGE(G173:T173),0) > 25,25,ROUND(AVERAGE(G173:T173),0))))","v":11},"903-9973","dennisweber47@juno.com","No",10,10,null,12,null,10,null,null,12]
[182,"Bill Gault",11,"909-0836","bmw1jeep2@charter.net","G72",null,9,14,12,null,10,null,12,11]
[183,"Wayne McCleery",13,"249-5360","acegolf@flash.net","M70",{"$nulls":3},8,{"$nulls":6},14,14,14,14]
[184,"Dan Todd",11," ",null," ",7,null,14,{"$nulls":8},12,12,12]
[185,"Ken McPherson",{"$f":"IF(ROUND(AVERAGE(G177:T177),0) < 9,9,(IF(ROUND(AVERAGE(G177:T177),0) > 25,25,ROUND(AVERAGE(G177:T177),0))))","v":18}," ","ken.d.mcpherson@lmco.com"," ",null,20,null,15,null,20,null,19,{"$nulls":5},16]
[null,"Roy Ooten",15,{"$nulls":3},12,17,15,null,null,15,null,14,15]
[null,"Sam Satcher",11,{"$nulls":3},11,null,10,{"$nulls":4},13,11]
[null,null,{"$f":"SUM(C173:C179)/7","v":12.857142857142858}]
[10,"Team No. 21","Quota","Phone","E-Mail","Member"]
[11,"Jeff Holmlund",{"$f":"IF(ROUND(AVERAGE(G182:T182),0) < 9,9,(IF(ROUND(AVERAGE(G182:T182),0) > 25,25,ROUND(AVERAGE(G182:T182),0))))","v":19},"378-2617","jeffrey.a.holmlund@lmco.com","H56",15,null,null,22,null,20,null,20,18]
[12,"John Miles",9,"688-5932 ","jimiles1@sbcglobal.net","No",null,6,null,7,{"$nulls":3},11,8,{"$nulls":4},9]
[13,"Stephen Taylor",15,"773-8147","sttaylor@flash.net ","T17",{"$nulls":10},15,15,15,15]
[14,"Kim Autry",11,"935-4726","kim.n.autry@lmco.com","No",14,12,10,8,null,13]
[15,"Gerry Norvell",{"$f":"IF(ROUND(AVERAGE(G186:T186),0) < 9,9,(IF(ROUND(AVERAGE(G186:T186),0) > 25,25,ROUND(AVERAGE(G186:T186),0))))","v":17},"935-3211","gerry.norvell@lmco.com","yes",14,13,18,18,null,21,null,19,17]
[16,"Ed Blosch",16,"935-1522","edwin.l.blosch@lmco.com",{"$nulls":3},12,null,null,21,null,18,{"$nulls":4},14,14]
[]
[null,null,{"$f":"SUM(C182:C188)/6","v":14.5}]
[100,"Team No. 22","Quota","Phone","E-Mail","Member"]
[103,"Wes Zwerneman",{"$f":"IF(ROUND(AVERAGE(G191:T191),0) < 9,9,(IF(ROUND(AVERAGE(G191:T191),0) > 25,25,ROUND(AVERAGE(G191:T191),0))))","v":16},"228-6901","wes.d.zwerneman@lmco.com",null,16,null,13,17,null,22,null,14,15]
[107,"Bob Eller",{"$f":"IF(ROUND(AVERAGE(G192:T192),0) < 9,9,(IF(ROUND(AVERAGE(G192:T192),0) > 25,25,ROUND(AVERAGE(G192:T192),0))))","v":11},{"$nulls":3},6,null,15,null,null,15,null,10,{"$nulls":5},11]
[103,"Danny Rodriguez",15,{"$nulls":4},15,13,15,{"$nulls":3},16,17]
[104,"Greg Stagg",20,{"$nulls":4},20]
[null,"John Bessolo",{"$f":"IF(ROUND(AVERAGE(G195:T195),0) < 9,9,(IF(ROUND(AVERAGE(G195:T195),0) > 25,25,ROUND(AVERAGE(G195:T195),0))))","v":9},{"$nulls":3},9,7,7,4,null,5,null,6,10]
[null,"Mike Brechbuhl",14,{"$nulls":3},13,10,null,20]
[]
[null,null,{"$f":"SUM(C191:C197)/6","v":14.166666666666666}]
[]
[332,"Individuals","Quota","Phone","E-Mail","Member"]
["Brent Anderson","Brent Anderson",{"$f":"IF(ROUND(AVERAGE(G201:T201),0) < 9,9,(IF(ROUND(AVERAGE(G201:T201),0) > 25,25,ROUND(AVERAGE(G201:T201),0))))","v":9},31540,"brent.c.anderson@lmco.com","No",{"$nulls":10},9,9,9,9]
[null,"Doug McKay",18,72565,"douglas.mckay@lmco.com","No",{"$nulls":10},18,18,18,18]
[null,"Dwain Capshaw",17,{"$nulls":4},19,{"$nulls":6},22,null,null,14,14,14]
[null,"Grayland Limme",18,{"$nulls":13},18,18,18,18]
[null,"Gerald Tyner",9,53605,null," ",{"$nulls":10},9,9,9,9]
[null,"Robert Dillon",13,71796,null,"No",{"$nulls":10},13,13,13,13]
[null,"Bob Bellotti ",{"$f":"IF(ROUND(AVERAGE(G207:T207),0) < 9,9,(IF(ROUND(AVERAGE(G207:T207),0) > 25,25,ROUND(AVERAGE(G207:T207),0))))","v":9},null,null,"no",{"$nulls":10},9,9,9,9]
[null,"Conor Bingaman",12,71250,"john.c.bingaman@lmco.com","No",{"$nulls":10},12,12,12,12]
[null,"Bill Garver",{"$error":"#DIV/0!"},51762,null,"no"]
[null,"Marshall Hinkle",17,"304-4417","marshall.d.hinkle@lmco.com",{"$nulls":11},17,17,17,17]
[null,"Pat Rambo",17," ",{"$nulls":12},17,17,17,17]
[null,"George Elza",20,{"$nulls":13},20,20,20,20]
[null,"Daniel Duda",{"$error":"#DIV/0!"},"777-3107","daniel.j.duda.jr@lmco.com"]
[null,"Garrick Ulrich",{"$f":"IF(ROUND(AVERAGE(G214:T214),0) < 9,9,(IF(ROUND(AVERAGE(G214:T214),0) > 25,25,ROUND(AVERAGE(G214:T214),0))))","v":16},{"$nulls":13},16,16,16,16]
[null,"John Fee",19,"312-9869","peaissue@sbcglobal.net",{"$nulls":11},19,19,19,19]
[null,"Todd Belote",10,{"$nulls":13},10,10,10,10]
[null,"Luke Hartwig",10,{"$nulls":11},9,null,10,10,10,10]
[null,"Keith Lee",25,54650,"keith.lee@lmco.com","L27",{"$nulls":10},25,25,25,25]
[null,"Charlie Bean",25,54613,"william.c.bean.jr@lmco.com","No",{"$nulls":10},25,25,25,25]
[null,"Matt Brown",24,{"$nulls":11},27,null,23,23,23,23]
[null,"Don Taylor",23,{"$nulls":13},23,23,23,23]
[null,"Kevin Parker",19,{"$nulls":13},19,19,19,19]
[null,"Cory Welch",{"$f":"IF(ROUND(AVERAGE(G223:T223),0) < 9,9,(IF(ROUND(AVERAGE(G223:T223),0) > 25,25,ROUND(AVERAGE(G223:T223),0))))","v":21},23788,"cory.welch@lmco.com","N",{"$nulls":10},21,21,21,21]
[null,"Mike Applegate",{"$f":"IF(ROUND(AVERAGE(G224:T224),0) < 9,9,(IF(ROUND(AVERAGE(G224:T224),0) > 25,25,ROUND(AVERAGE(G224:T224),0))))","v":16},null,"mike.g.applegate@lmco.com","Yes",{"$nulls":10},16,16,16,16]
[null,"Gary Perreira",{"$error":"#DIV/0!"}," ","Gary.L.Perreira@lmco.com"," "]
[null,"Sean South",21,{"$nulls":3},25,{"$nulls":6},16]
[null,"John Candey",{"$f":"IF(ROUND(AVERAGE(G227:T227),0) < 9,9,(IF(ROUND(AVERAGE(G227:T227),0) > 25,25,ROUND(AVERAGE(G227:T227),0))))","v":{"$error":"#DIV/0!"}},"817-565-3638","john.a1.candey@lmco.com"]
[null,"Jim Holt",{"$f":"IF(ROUND(AVERAGE(G228:T228),0) < 9,9,(IF(ROUND(AVERAGE(G228:T228),0) > 25,25,ROUND(AVERAGE(G228:T228),0))))","v":9},"366-4958","jih207@gmail.com",null,8,9,7,{"$nulls":8}," ",11,11]
[null,"John Godby",{"$f":"IF(ROUND(AVERAGE(G229:T229),0) < 9,9,(IF(ROUND(AVERAGE(G229:T229),0) > 25,25,ROUND(AVERAGE(G229:T229),0))))","v":19},{"$nulls":8},19]

{"sheet":"A DIV","index":1,"n_rows":45,"n_cols":15,"rows_kept":45}
[{"$f":"FEGL_MASTER!B1","v":"Team No. 1"},null,{"$f":"FEGL_MASTER!C1","v":"Quota"},null,{"$f":"FEGL_MASTER!B10","v":"Team No. 2"},null,{"$f":"FEGL_MASTER!C10","v":"Quota"},null,{"$f":"FEGL_MASTER!B19","v":"Team No. 3"},null,{"$f":"FEGL_MASTER!C19","v":"Quota"},null,{"$f":"FEGL_MASTER!B28","v":"Team No. 4"},null,{"$f":"FEGL_MASTER!C28","v":"Quota"}]
[{"$f":"FEGL_MASTER!B2","v":"Danny Vrla"},null,{"$f":"FEGL_MASTER!C2","v":22},null,{"$f":"FEGL_MASTER!B11","v":"Bill Blackwell"},null,{"$f":"FEGL_MASTER!C11","v":25},null,{"$f":"FEGL_MASTER!B20","v":"Craig Treece"},null,{"$f":"FEGL_MASTER!C20","v":18},null,{"$f":"FEGL_MASTER!B29","v":"Roy Mayes"},null,{"$f":"FEGL_MASTER!C29","v":18}]
[{"$f":"FEGL_MASTER!B3","v":"Dick Miller"},null,{"$f":"FEGL_MASTER!C3","v":22},null,{"$f":"FEGL_MASTER!B12","v":"Tom Schlueter"},null,{"$f":"FEGL_MASTER!C12","v":24},null,{"$f":"FEGL_MASTER!B21","v":"Terry Hay"},null,{"$f":"FEGL_MASTER!C21","v":18},null,{"$f":"FEGL_MASTER!B30","v":"Steve Burre"},null,{"$f":"FEGL_MASTER!C30","v":19}]
[{"$f":"FEGL_MASTER!B4","v":"Charlie Bean"},null,{"$f":"FEGL_MASTER!C4","v":25},null,{"$f":"FEGL_MASTER!B13","v":"Scott Howell"},null,{"$f":"FEGL_MASTER!C13","v":23},null,{"$f":"FEGL_MASTER!B22","v":"Scott Rudin"},null,{"$f":"FEGL_MASTER!C22","v":22},null,{"$f":"FEGL_MASTER!B31","v":"Paul Parker"},null,{"$f":"FEGL_MASTER!C31","v":21}]
[{"$f":"FEGL_MASTER!B5","v":"Bryan Goble"},null,{"$f":"FEGL_MASTER!C5","v":15},null,{"$f":"FEGL_MASTER!B14","v":"Greg Byrnes"},null,{"$f":"FEGL_MASTER!C14","v":24},null,{"$f":"FEGL_MASTER!B23","v":"Peter Stanfill"},null,{"$f":"FEGL_MASTER!C23","v":20},null,{"$f":"FEGL_MASTER!B32","v":"Paul Loken"},null,{"$f":"FEGL_MASTER!C32","v":20}]
[{"$f":"FEGL_MASTER!B6","v":"Rod Newberry"},null,{"$f":"FEGL_MASTER!C6","v":20},null,{"$f":"FEGL_MASTER!B15","v":"Marylou Anderson"},null,{"$f":"FEGL_MASTER!C15","v":18},null,{"$f":"FEGL_MASTER!B24","v":"Greg Larson"},null,{"$f":"FEGL_MASTER!C24","v":20},null,{"$f":"FEGL_MASTER!B33","v":"Richard Rutledge"},null,{"$f":"FEGL_MASTER!C33","v":13}]
[{"$f":"FEGL_MASTER!B7","v":0},null,{"$f":"FEGL_MASTER!C7","v":0},null,{"$f":"FEGL_MASTER!B16","v":"Susan Blackwell"},null,{"$f":"FEGL_MASTER!C16","v":16},null,{"$f":"FEGL_MASTER!B25","v":0},null,{"$f":"FEGL_MASTER!C25","v":0},null,{"$f":"FEGL_MASTER!B34","v":0},null,{"$f":"FEGL_MASTER!C34","v":0}]
[{"$f":"FEGL_MASTER!B8","v":0},null,{"$f":"FEGL_MASTER!C8","v":0},null,{"$f":"FEGL_MASTER!B17","v":0},null,{"$f":"FEGL_MASTER!C17","v":0},null,{"$f":"FEGL_MASTER!B26","v":0},null,{"$f":"FEGL_MASTER!C26","v":0},null,{"$f":"FEGL_MASTER!B35","v":0},null,{"$f":"FEGL_MASTER!C35","v":0}]
[]
[]
[{"$f":"FEGL_MASTER!B37","v":"Team No. 5"},null,{"$f":"FEGL_MASTER!C37","v":"Quota"},null,{"$f":"FEGL_MASTER!B46","v":"Team No. 6"},null,{"$f":"FEGL_MASTER!C46","v":"Quota"},null,{"$f":"FEGL_MASTER!B55","v":"Team No. 7"},null,{"$f":"FEGL_MASTER!C55","v":"Quota"},null,{"$f":"FEGL_MASTER!B64","v":"Team No. 8"},null,{"$f":"FEGL_MASTER!C64","v":"Quota"}]
[{"$f":"FEGL_MASTER!B38","v":"Carl Jettun"},null,{"$f":"FEGL_MASTER!C38","v":18},null,{"$f":"FEGL_MASTER!B47","v":"Chris Sell"},null,{"$f":"FEGL_MASTER!C47","v":23},null,{"$f":"FEGL_MASTER!B56","v":"Mike Kimble"},null,{"$f":"FEGL_MASTER!C56","v":23},null,{"$f":"FEGL_MASTER!B65","v":"Dennis McBrayer"},null,{"$f":"FEGL_MASTER!C65","v":17}]
[{"$f":"FEGL_MASTER!B39","v":"Terry Williams"},null,{"$f":"FEGL_MASTER!C39","v":19},null,{"$f":"FEGL_MASTER!B48","v":"James Kilpatrick"},null,{"$f":"FEGL_MASTER!C48","v":15},null,{"$f":"FEGL_MASTER!B57","v":"Duane Casey"},null,{"$f":"FEGL_MASTER!C57","v":17},null,{"$f":"FEGL_MASTER!B66","v":"Mark Melanson"},null,{"$f":"FEGL_MASTER!C66","v":21}]
[{"$f":"FEGL_MASTER!B40","v":"Ron Garvin"},null,{"$f":"FEGL_MASTER!C40","v":22},null,{"$f":"FEGL_MASTER!B49","v":"Sharon Scharbach"},null,{"$f":"FEGL_MASTER!C49","v":9},null,{"$f":"FEGL_MASTER!B58","v":"Chris Tarpley"},null,{"$f":"FEGL_MASTER!C58","v":22},null,{"$f":"FEGL_MASTER!B67","v":"Kelly Whitfield"},null,{"$f":"FEGL_MASTER!C67","v":23}]
[{"$f":"FEGL_MASTER!B41","v":"Danny Uselton"},null,{"$f":"FEGL_MASTER!C41","v":19},null,{"$f":"FEGL_MASTER!B50","v":"Frank Gallison"},null,{"$f":"FEGL_MASTER!C50","v":21},null,{"$f":"FEGL_MASTER!B59","v":"Bob Madewell"},null,{"$f":"FEGL_MASTER!C59","v":15},null,{"$f":"FEGL_MASTER!B68","v":"Jim Norris"},null,{"$f":"FEGL_MASTER!C68","v":19}]
[{"$f":"FEGL_MASTER!B42","v":"Lane Massie"},null,{"$f":"FEGL_MASTER!C42","v":25},null,{"$f":"FEGL_MASTER!B51","v":"Joe Revay"},null,{"$f":"FEGL_MASTER!C51","v":18},null,{"$f":"FEGL_MASTER!B60","v":"Dave Watson"},null,{"$f":"FEGL_MASTER!C60","v":19},null,{"$f":"FEGL_MASTER!B69","v":"Bill Margolis"},null,{"$f":"FEGL_MASTER!C69","v":13}]
[{"$f":"FEGL_MASTER!B43","v":"Susan Ethetton"},null,{"$f":"FEGL_MASTER!C43","v":9},null,{"$f":"FEGL_MASTER!B52","v":"Tom Imboden"},null,{"$f":"FEGL_MASTER!C52","v":17},null,{"$f":"FEGL_MASTER!B61","v":0},null,{"$f":"FEGL_MASTER!C61","v":0},null,{"$f":"FEGL_MASTER!B70","v":"Steven Floyd"},null,{"$f":"FEGL_MASTER!C70","v":19}]
[{"$f":"FEGL_MASTER!B44","v":0},null,{"$f":"FEGL_MASTER!C44","v":0},null,{"$f":"FEGL_MASTER!B53","v":0},null,{"$f":"FEGL_MASTER!C53","v":0},null,{"$f":"FEGL_MASTER!B62","v":0},null,{"$f":"FEGL_MASTER!C62","v":0},null,{"$f":"FEGL_MASTER!B71","v":"Dan Lawrence"},null,{"$f":"FEGL_MASTER!C71","v":24}]
[]
[]
[{"$f":"FEGL_MASTER!B73","v":"Team No. 9"},null,{"$f":"FEGL_MASTER!C73","v":"Quota"},null,{"$f":"FEGL_MASTER!B82","v":"Team No. 10"},null,{"$f":"FEGL_MASTER!C82","v":"Quota"},null,{"$f":"FEGL_MASTER!B91","v":"Team No. 11"},null,{"$f":"FEGL_MASTER!C91","v":"Quota"},null,{"$f":"FEGL_MASTER!B100","v":"Team No. 12"},null,{"$f":"FEGL_MASTER!C100","v":"Quota"}]
[{"$f":"FEGL_MASTER!B74","v":"David Miley"},null,{"$f":"FEGL_MASTER!C74","v":14},null,{"$f":"FEGL_MASTER!B83","v":"Frankie Kubenka"},null,{"$f":"FEGL_MASTER!C83","v":16},null,{"$f":"FEGL_MASTER!B92","v":"David Ayrault"},null,{"$f":"FEGL_MASTER!C92","v":16},null,{"$f":"FEGL_MASTER!B101","v":"Jason DeLong"},null,{"$f":"FEGL_MASTER!C101","v":25}]
[{"$f":"FEGL_MASTER!B75","v":"Butch Morrison"},null,{"$f":"FEGL_MASTER!C228","v":9},null,{"$f":"FEGL_MASTER!B84","v":"Marty James"},null,{"$f":"FEGL_MASTER!C84","v":{"$error":"#DIV/0!"}},null,{"$f":"FEGL_MASTER!B93","v":"Rick Ellis"},null,{"$f":"FEGL_MASTER!C93","v":15},null,{"$f":"FEGL_MASTER!B102","v":"Travis Libby"},null,{"$f":"FEGL_MASTER!C102","v":16}]
[{"$f":"FEGL_MASTER!B76","v":"Bruce Pruitt"},null,{"$f":"FEGL_MASTER!C76","v":13},null,{"$f":"FEGL_MASTER!B85","v":"Oliver Benfer"},null,{"$f":"FEGL_MASTER!C85","v":13},null,{"$f":"FEGL_MASTER!B94","v":"Steve Matney"},null,{"$f":"FEGL_MASTER!C94","v":18},null,{"$f":"FEGL_MASTER!B103","v":"Aaron Corby"},null,{"$f":"FEGL_MASTER!C103","v":18}]
[{"$f":"FEGL_MASTER!B77","v":"Tony Wedgeworth"},null,{"$f":"FEGL_MASTER!C77","v":21},null,{"$f":"FEGL_MASTER!B86","v":"Tom Marrs"},null,{"$f":"FEGL_MASTER!C86","v":14},null,{"$f":"FEGL_MASTER!B95","v":"Stewart Coley"},null,{"$f":"FEGL_MASTER!C95","v":20},null,{"$f":"FEGL_MASTER!B104","v":"Kyle Bottom"},null,{"$f":"FEGL_MASTER!C104","v":20}]
[{"$f":"FEGL_MASTER!B78","v":"Josh Lewis"},null,{"$f":"FEGL_MASTER!C78","v":17},null,{"$f":"FEGL_MASTER!B87","v":"Louis Gonzalez"},null,{"$f":"FEGL_MASTER!C87","v":19},null,{"$f":"FEGL_MASTER!B96","v":"Mitch Kaarlela"},null,{"$f":"FEGL_MASTER!C96","v":{"$error":"#DIV/0!"}},null,{"$f":"FEGL_MASTER!B105","v":"Brad Dittmar"},null,{"$f":"FEGL_MASTER!C105","v":20}]
[{"$f":"FEGL_MASTER!B79","v":"Rowdy Yates"},null,{"$f":"FEGL_MASTER!C79","v":11},null,{"$f":"FEGL_MASTER!B88","v":"J R Martinez"},null,{"$f":"FEGL_MASTER!C88","v":15},null,{"$f":"FEGL_MASTER!B97","v":"Rick Lang"},null,{"$f":"FEGL_MASTER!C97","v":19},null,{"$f":"FEGL_MASTER!B106","v":0},null,{"$f":"FEGL_MASTER!C106","v":0}]
[{"$f":"FEGL_MASTER!B80","v":0},null,{"$f":"FEGL_MASTER!C80","v":0},null,{"$f":"FEGL_MASTER!B89","v":"Joe Edmiston"},null,{"$f":"FEGL_MASTER!C89","v":14},null,{"$f":"FEGL_MASTER!B98","v":"Billy Coyle"},null,{"$f":"FEGL_MASTER!C98","v":18},null,{"$f":"FEGL_MASTER!B107","v":0},null,{"$f":"FEGL_MASTER!C107","v":0}]
[]
[]
[]
[]
["Hole #","Closest-to-Hole",null,"Win",null,"Quota","Most Above  Quota",null,"Win",null,null,"Team #","Previous","Current","Total"]
[7,"Wedgeworth",null,{"v":10,"d":"$10"},null,"(+8)","Imboden",null,{"v":12,"d":"$12"},null,"1st",11,84,16,{"$f":"SUM(M34+N34)","v":100}]
[8,"Bean",null,{"v":10,"d":"$10"},null,"(+8)","Lang",null,{"v":12,"d":"$12"},null,"2nd",10,77,13,90]
[{"$nulls":10},"3rd",12,76,13,89]
[{"$nulls":9}," ",null,1,75,13,88]
["Team #","Most Over Quota",null,"Win",{"$nulls":7},9,80,7,87]
[4,"(+11)",null,{"v":40,"d":"$40"},{"$nulls":7},3,75,9,84]
[11,"(+11)",null,{"v":40,"d":"$40"},{"$nulls":7},6,67,17,84]
[{"$nulls":11},7,66,16,82]
[null,null," ",{"$nulls":8},4,67,13,80]
[{"$nulls":5}," "," ",null," ",null,null,8,68,12,80]
[{"$nulls":11},5,62,13,75]
[{"$nulls":11},2,63,10,73]

{"sheet":"B DIV","index":2,"n_rows":43,"n_cols":15,"rows_kept":43}
[{"$f":"FEGL_MASTER!B109","v":"Team No. 13"},null,{"$f":"FEGL_MASTER!C109","v":"Quota"},null,{"$f":"FEGL_MASTER!B118","v":"Team No. 14"},null,{"$f":"FEGL_MASTER!C118","v":"Quota"},null,{"$f":"FEGL_MASTER!B127","v":"Team No. 15"},null,{"$f":"FEGL_MASTER!C127","v":"Quota"},null,{"$f":"FEGL_MASTER!B136","v":"Team No. 16"},null,{"$f":"FEGL_MASTER!C136","v":"Quota"}]
[{"$f":"FEGL_MASTER!B110","v":"Charlie Lambert"},null,{"$f":"FEGL_MASTER!C110","v":15},null,{"$f":"FEGL_MASTER!B119","v":"Bob Bienski"},null,{"$f":"FEGL_MASTER!C119","v":20},null,{"$f":"FEGL_MASTER!B128","v":"Dave Utech"},null,{"$f":"FEGL_MASTER!C128","v":11},null,{"$f":"FEGL_MASTER!B137","v":"Ken Wood"},null,{"$f":"FEGL_MASTER!C137","v":18}]
[{"$f":"FEGL_MASTER!B111","v":"DeWayne Cox"},null,{"$f":"FEGL_MASTER!C111","v":20},null,{"$f":"FEGL_MASTER!B120","v":"James Barkelew"},null,{"$f":"FEGL_MASTER!C120","v":17},null,{"$f":"FEGL_MASTER!B129","v":"Bill Rater"},null,{"$f":"FEGL_MASTER!C129","v":14},null,{"$f":"FEGL_MASTER!B138","v":"Paul Rowland"},null,{"$f":"FEGL_MASTER!C138","v":21}]
[{"$f":"FEGL_MASTER!B112","v":"Joe Andrews"},null,{"$f":"FEGL_MASTER!C112","v":15},null,{"$f":"FEGL_MASTER!B121","v":"Wayne Maddox"},null,{"$f":"FEGL_MASTER!C121","v":18},null,{"$f":"FEGL_MASTER!B130","v":"Gary Keller"},null,{"$f":"FEGL_MASTER!C130","v":20},null,{"$f":"FEGL_MASTER!B139","v":"Mike Hester"},null,{"$f":"FEGL_MASTER!C139","v":15}]
[{"$f":"FEGL_MASTER!B113","v":"Dan Longeway"},null,{"$f":"FEGL_MASTER!C113","v":16},null,{"$f":"FEGL_MASTER!B122","v":"Jack Young"},null,{"$f":"FEGL_MASTER!C122","v":12},null,{"$f":"FEGL_MASTER!B131","v":"James Miller"},null,{"$f":"FEGL_MASTER!C131","v":12},null,{"$f":"FEGL_MASTER!B140","v":"Scott Horn"},null,{"$f":"FEGL_MASTER!C140","v":11}]
[{"$f":"FEGL_MASTER!B114","v":"Cheryl Lambert"},null,{"$f":"FEGL_MASTER!C114","v":9},null,{"$f":"FEGL_MASTER!B123","v":"Jorge Cornejo"},null,{"$f":"FEGL_MASTER!C123","v":12},null,{"$f":"FEGL_MASTER!B132","v":"Gary Howard"},null,{"$f":"FEGL_MASTER!C132","v":23},null,{"$f":"FEGL_MASTER!B141","v":"Kevin Smiley"},null,{"$f":"FEGL_MASTER!C141","v":18}]
[{"$f":"FEGL_MASTER!B115","v":0},null,{"$f":"FEGL_MASTER!C115","v":0},null,{"$f":"FEGL_MASTER!B124","v":"Garnett Andrews"},null,{"$f":"FEGL_MASTER!C124","v":9},null,{"$f":"FEGL_MASTER!B133","v":"Kevan Western"},null,{"$f":"FEGL_MASTER!C133","v":12},null,{"$f":"FEGL_MASTER!B142","v":"Lance Eddins"},null,{"$f":"FEGL_MASTER!C142","v":17}]
[{"$f":"FEGL_MASTER!B116","v":0},null,{"$f":"FEGL_MASTER!C116","v":0},null,{"$f":"FEGL_MASTER!B125","v":"Jerry Burns"},null,{"$f":"FEGL_MASTER!C125","v":15},null,{"$f":"FEGL_MASTER!B134","v":"Mark Johnston"},null,{"$f":"FEGL_MASTER!C134","v":16},null,{"$f":"FEGL_MASTER!B143","v":"William Renshaw"},null,{"$f":"FEGL_MASTER!C143","v":12}]
[]
[]
[{"$f":"FEGL_MASTER!B145","v":"Team No. 17"},null,{"$f":"FEGL_MASTER!C145","v":"Quota"},null,{"$f":"FEGL_MASTER!B154","v":"Team No. 18"},null,{"$f":"FEGL_MASTER!C154","v":"Quota"},null,{"$f":"FEGL_MASTER!B163","v":"Team No. 19"},null,{"$f":"FEGL_MASTER!C163","v":"Quota"},null,{"$f":"FEGL_MASTER!B172","v":"Team No. 20"},null,{"$f":"FEGL_MASTER!C172","v":"Quota"}]
[{"$f":"FEGL_MASTER!B146","v":"Danny Watson"},null,{"$f":"FEGL_MASTER!C146","v":13},null,{"$f":"FEGL_MASTER!B155","v":"Rob Donald"},null,{"$f":"FEGL_MASTER!C155","v":10},null,{"$f":"FEGL_MASTER!B164","v":"Ken Fairchild"},null,{"$f":"FEGL_MASTER!C164","v":10},null,{"$f":"FEGL_MASTER!B173","v":"Dennis Weber"},null,{"$f":"FEGL_MASTER!C173","v":11}]
[{"$f":"FEGL_MASTER!B147","v":"Billy Keck"},null,{"$f":"FEGL_MASTER!C147","v":21},null,{"$f":"FEGL_MASTER!B156","v":"Steve Shinn"},null,{"$f":"FEGL_MASTER!C156","v":12},null,{"$f":"FEGL_MASTER!B165","v":"Tim Edwards"},null,{"$f":"FEGL_MASTER!C165","v":14},null,{"$f":"FEGL_MASTER!B174","v":"Bill Gault"},null,{"$f":"FEGL_MASTER!C174","v":11}]
[{"$f":"FEGL_MASTER!B148","v":"Scott Conder"},null,{"$f":"FEGL_MASTER!C148","v":15},null,{"$f":"FEGL_MASTER!B157","v":"Eric Gunn"},null,{"$f":"FEGL_MASTER!C157","v":18},null,{"$f":"FEGL_MASTER!B166","v":"Jerry Burns"},null,{"$f":"FEGL_MASTER!C166","v":9},null,{"$f":"FEGL_MASTER!B175","v":"Wayne McCleery"},null,{"$f":"FEGL_MASTER!C175","v":13}]
[{"$f":"FEGL_MASTER!B149","v":"Richard Roye"},null,{"$f":"FEGL_MASTER!C149","v":12},null,{"$f":"FEGL_MASTER!B158","v":"John Supra"},null,{"$f":"FEGL_MASTER!C158","v":10},null,{"$f":"FEGL_MASTER!B167","v":"Ranier Woods"},null,{"$f":"FEGL_MASTER!C167","v":13},null,{"$f":"FEGL_MASTER!B176","v":"Dan Todd"},null,{"$f":"FEGL_MASTER!C176","v":11}]
[{"$f":"FEGL_MASTER!B150","v":"Phil Rigdon"},null,{"$f":"FEGL_MASTER!C150","v":14},null,{"$f":"FEGL_MASTER!B159","v":"Ann Godbey"},null,{"$f":"FEGL_MASTER!C159","v":11},null,{"$f":"FEGL_MASTER!B168","v":"Dale Rostamo"},null,{"$f":"FEGL_MASTER!C168","v":21},null,{"$f":"FEGL_MASTER!B177","v":"Ken McPherson"},null,{"$f":"FEGL_MASTER!C177","v":18}]
[{"$f":"FEGL_MASTER!B151","v":0},null,{"$f":"FEGL_MASTER!C151","v":0},null,{"$f":"FEGL_MASTER!B160","v":"Ryan Monroe"},null,{"$f":"FEGL_MASTER!C160","v":14},null,{"$f":"FEGL_MASTER!B169","v":"James Prescott"},null,{"$f":"FEGL_MASTER!C169","v":13},null,{"$f":"FEGL_MASTER!B178","v":"Roy Ooten"},null,{"$f":"FEGL_MASTER!C178","v":15}]
[{"$f":"FEGL_MASTER!B152","v":0},null,{"$f":"FEGL_MASTER!C152","v":0},null,{"$f":"FEGL_MASTER!B161","v":0},null,{"$f":"FEGL_MASTER!C161","v":0},null,{"$f":"FEGL_MASTER!B170","v":0},null,{"$f":"FEGL_MASTER!C170","v":0},null,{"$f":"FEGL_MASTER!B179","v":"Sam Satcher"},null,{"$f":"FEGL_MASTER!C179","v":11}]
[]
[]
[{"$f":"FEGL_MASTER!B181","v":"Team No. 21"},null,{"$f":"FEGL_MASTER!C181","v":"Quota"},null,{"$f":"FEGL_MASTER!B190","v":"Team No. 22"},null,{"$f":"FEGL_MASTER!C190","v":"Quota"}]
[{"$f":"FEGL_MASTER!B182","v":"Jeff Holmlund"},null,{"$f":"FEGL_MASTER!C182","v":19},null,{"$f":"FEGL_MASTER!B191","v":"Wes Zwerneman"},null,{"$f":"FEGL_MASTER!C191","v":16}]
[{"$f":"FEGL_MASTER!B183","v":"John Miles"},null,{"$f":"FEGL_MASTER!C183","v":9},null,{"$f":"FEGL_MASTER!B192","v":"Bob Eller"},null,{"$f":"FEGL_MASTER!C192","v":11}]
[{"$f":"FEGL_MASTER!B184","v":"Stephen Taylor"},null,{"$f":"FEGL_MASTER!C184","v":15},null,{"$f":"FEGL_MASTER!B193","v":"Danny Rodriguez"},null,{"$f":"FEGL_MASTER!C193","v":15}]
[{"$f":"FEGL_MASTER!B185","v":"Kim Autry"},null,{"$f":"FEGL_MASTER!C185","v":11},null,{"$f":"FEGL_MASTER!B194","v":"Greg Stagg"},null,{"$f":"FEGL_MASTER!C194","v":20}]
[{"$f":"FEGL_MASTER!B186","v":"Gerry Norvell"},null,{"$f":"FEGL_MASTER!C186","v":17},null,{"$f":"FEGL_MASTER!B195","v":"John Bessolo"},null,{"$f":"FEGL_MASTER!C195","v":9}]
[{"$f":"FEGL_MASTER!B187","v":"Ed Blosch"},null,{"$f":"FEGL_MASTER!C187","v":16},null,{"$f":"FEGL_MASTER!B196","v":"Mike Brechbuhl"},null,{"$f":"FEGL_MASTER!C196","v":14}]
[{"$f":"FEGL_MASTER!B188","v":0},null,{"$f":"FEGL_MASTER!C188","v":0},null,{"$f":"FEGL_MASTER!B197","v":0},null,{"$f":"FEGL_MASTER!C197","v":0}]
[]
[]
[]
[]
["Hole #","Closest-to-Hole",null,"Win",null,"Quota","Most Above  Quota",null,"Win",null,null,"Team #","Previous","Current","Total"]
[14,"Howard",null,{"v":10,"d":"$10"},null,"(+6)","Cheryl Lambert",null,{"v":10,"d":"$10"},null,"1st",19,82,16,{"$f":"SUM(M34+N34)","v":98}]
[16,"Norvell",null,{"v":10,"d":"$10"},null,"(+6)","Andrews",null,{"v":10,"d":"$10"},null,"2nd",16,80,16,96]
[{"$nulls":10},"3rd",17,75,19,94]
[{"$nulls":9}," ",null,15,72,13,85]
["Team #","Most Over Quota",null,"Win",{"$nulls":7},14,71,13,84]
[17,"(+9)",null,{"v":40,"d":"$40"},{"$nulls":7},20,72,10,82]
[15,"(+8)",null,{"v":26,"d":"$26"},{"$nulls":7},22,68,13,81]
[" "," ",null," ",{"$nulls":7},13,57,13,70]
[{"$nulls":11},18,61,7,68]
[{"$nulls":11},21,61,3,64]

{"sheet":"$A","index":3,"n_rows":110,"n_cols":13,"rows_kept":110}
[null,"Week 1","Week 2","Week 3","Week 4","Week 5","Week 6","Week 7","Week 8","Week 9","Week 10","Division","Total"]
[{"$f":"FEGL_MASTER!B1","v":"Team No. 1"},32,null,40,null,10,null,10,null,null,10,null,{"$f":"SUM(B2:L2)","v":{"v":102,"d":"$102.00"}}]
[{"$f":"FEGL_MASTER!B2","v":"Danny Vrla"},{"$nulls":11},{"$f":"SUM(B3:L3)","v":0}]
[{"$f":"FEGL_MASTER!B3","v":"Dick Miller"},{"$nulls":11},0]
[{"$f":"FEGL_MASTER!B4","v":"Charlie Bean"},{"$nulls":5},13,null,null,10,null,null,{"v":23,"d":"$23.00"}]
[{"$f":"FEGL_MASTER!B5","v":"Bryan Goble"},null,null,12,{"$nulls":8},{"v":12,"d":"$12.00"}]
[{"$f":"FEGL_MASTER!B6","v":"Rod Newberry"},{"$nulls":11},0]
[{"$f":"FEGL_MASTER!B7","v":0},{"$nulls":11},0]
[{"$f":"FEGL_MASTER!B8","v":0},{"$nulls":11},0]
[{"$f":"FEGL_MASTER!B9","v":" "}]
[{"$f":"FEGL_MASTER!B10","v":"Team No. 2"},{"$nulls":4},10,null,10,null,null,10,null,{"v":30,"d":"$30.00"}]
[{"$f":"FEGL_MASTER!B11","v":"Bill Blackwell"},{"$nulls":11},0]
[{"$f":"FEGL_MASTER!B12","v":"Tom Schlueter"},{"$nulls":3},10,{"$nulls":7},{"v":10,"d":"$10.00"}]
[{"$f":"FEGL_MASTER!B13","v":"Scott Howell"},{"$nulls":11},0]
[{"$f":"FEGL_MASTER!B14","v":"Greg Byrnes"},{"$nulls":11},0]
[{"$f":"FEGL_MASTER!B15","v":"Marylou Anderson"},{"$nulls":11},0]
[{"$f":"FEGL_MASTER!B16","v":"Susan Blackwell"},{"$nulls":11},0]
[{"$f":"FEGL_MASTER!B17","v":0},{"$nulls":11},0]
[{"$f":"FEGL_MASTER!B18","v":0}]
[{"$f":"FEGL_MASTER!B19","v":"Team No. 3"},{"$nulls":3},16,10,null,10,null,null,10,null,{"v":46,"d":"$46.00"}]
[{"$f":"FEGL_MASTER!B20","v":"Craig Treece"},{"$nulls":5},13,{"$nulls":5},{"v":13,"d":"$13.00"}]
[{"$f":"FEGL_MASTER!B21","v":"Terry Hay"},{"$nulls":11},0]
[{"$f":"FEGL_MASTER!B22","v":"Scott Rudin"},{"$nulls":11},0]
[{"$f":"FEGL_MASTER!B23","v":"Peter Stanfill"},{"$nulls":11},0]
[{"$f":"FEGL_MASTER!B24","v":"Greg Larson"},{"$nulls":5},3,{"$nulls":5},{"v":3,"d":"$3.00"}]
[{"$f":"FEGL_MASTER!B25","v":0},{"$nulls":11},0]
[{"$f":"FEGL_MASTER!B26","v":0},{"$nulls":11},0]
[{"$f":"FEGL_MASTER!B27","v":0}]
[{"$f":"FEGL_MASTER!B28","v":"Team No. 4"},{"$nulls":4},10,null,10,null,40,10,null,{"v":70,"d":"$70.00"}]
[{"$f":"FEGL_MASTER!B29","v":"Roy Mayes"},{"$nulls":11},0]
[{"$f":"FEGL_MASTER!B30","v":"Steve Burre"},{"$nulls":11},0]
[{"$f":"FEGL_MASTER!B31","v":"Paul Parker"},{"$nulls":11},0]
[{"$f":"FEGL_MASTER!B32","v":"Paul Loken"},null,1,{"$nulls":9},{"v":1,"d":"$1.00"}]
[{"$f":"FEGL_MASTER!B33","v":"Richard Rutledge"},{"$nulls":11},0]
[{"$f":"FEGL_MASTER!B34","v":0},{"$nulls":11},0]
[{"$f":"FEGL_MASTER!B35","v":0},{"$nulls":11},0]
[{"$f":"FEGL_MASTER!B36","v":0}]
[{"$f":"FEGL_MASTER!B37","v":"Team No. 5"},{"$nulls":4},10,null,10,48,null,10,null,{"v":78,"d":"$78.00"}]
[{"$f":"FEGL_MASTER!B38","v":"Carl Jettun"},{"$nulls":11},0]
[{"$f":"FEGL_MASTER!B39","v":"Terry Williams"},14,{"$nulls":10},{"v":14,"d":"$14.00"}]
[{"$f":"FEGL_MASTER!B40","v":"Ron Garvin"},{"$nulls":7},10,{"$nulls":3},{"v":10,"d":"$10.00"}]
[{"$f":"FEGL_MASTER!B41","v":"Danny Uselton"},{"$nulls":7},12,{"$nulls":3},{"v":12,"d":"$12.00"}]
[{"$f":"FEGL_MASTER!B42","v":"Lane Massie"},10,{"$nulls":10},{"v":10,"d":"$10.00"}]
[{"$f":"FEGL_MASTER!B43","v":"Susan Ethetton"},{"$nulls":11},0]
[{"$f":"FEGL_MASTER!B44","v":0},{"$nulls":11},0]
[{"$f":"FEGL_MASTER!B45","v":0},{"$nulls":11}," "]
[{"$f":"FEGL_MASTER!B46","v":"Team No. 6"},{"$nulls":4},10,null,10,32,null,10,null,{"v":62,"d":"$62.00"}]
[{"$f":"FEGL_MASTER!B47","v":"Chris Sell"},null,11,{"$nulls":9},{"v":11,"d":"$11.00"}]
[{"$f":"FEGL_MASTER!B48","v":"James Kilpatrick"},{"$nulls":11},0]
[{"$f":"FEGL_MASTER!B49","v":"Sharon Scharbach"},{"$nulls":11},0]
[{"$f":"FEGL_MASTER!B50","v":"Frank Gallison"},{"$nulls":11},0]
[{"$f":"FEGL_MASTER!B51","v":"Joe Revay"},{"$nulls":11},0]
[{"$f":"FEGL_MASTER!B52","v":"Tom Imboden"},{"$nulls":8},12,null,null,{"v":12,"d":"$12.00"}]
[{"$f":"FEGL_MASTER!B53","v":0},{"$nulls":11},0]
[{"$f":"FEGL_MASTER!B54","v":0}]
[{"$f":"FEGL_MASTER!B55","v":"Team No. 7"},null,{"v":32,"d":"32 "},{"v":40,"d":"40 "},null,{"v":10,"d":"10 "},{"v":32,"d":"32 "},{"v":10,"d":"10 "},null,null,{"v":10,"d":"10 "},null,{"v":134,"d":"$134.00"}]
[{"$f":"FEGL_MASTER!B56","v":"Mike Kimble"},{"$nulls":11},0]
[{"$f":"FEGL_MASTER!B57","v":"Duane Casey"},{"$nulls":11},0]
[{"$f":"FEGL_MASTER!B58","v":"Chris Tarpley"},null,18,{"$nulls":9},{"v":18,"d":"$18.00"}]
[{"$f":"FEGL_MASTER!B59","v":"Bob Madewell"},null,null,11,{"$nulls":4},2,{"$nulls":3},{"v":13,"d":"$13.00"}]
[{"$f":"FEGL_MASTER!B60","v":"Dave Watson"},{"$nulls":11},0]
[{"$f":"FEGL_MASTER!B61","v":0},{"$nulls":11},0]
[{"$f":"FEGL_MASTER!B62","v":0},{"$nulls":11},0]
[{"$f":"FEGL_MASTER!B63","v":0}]
[{"$f":"FEGL_MASTER!B64","v":"Team No. 8"},{"$nulls":4},10,null,10,null,null,10,null,{"v":30,"d":"$30.00"}]
[{"$f":"FEGL_MASTER!B65","v":"Dennis McBrayer"},{"$nulls":11},0]
[{"$f":"FEGL_MASTER!B66","v":"Mark Melanson"},{"$nulls":7},2,{"$nulls":3},{"$f":"SUM(B67:L67)","v":{"v":2,"d":"$2.00"}}]
[{"$f":"FEGL_MASTER!B67","v":"Kelly Whitfield"},{"$nulls":5},3,{"$nulls":5},{"v":3,"d":"$3.00"}]
[{"$f":"FEGL_MASTER!B68","v":"Jim Norris"},null,null,1,{"$nulls":8},{"v":1,"d":"$1.00"}]
[{"$f":"FEGL_MASTER!B69","v":"Bill Margolis"},{"$nulls":11},0]
[{"$f":"FEGL_MASTER!B70","v":"Steven Floyd"},null,null,8,{"$nulls":8},{"v":8,"d":"$8.00"}]
[{"$f":"FEGL_MASTER!B71","v":"Dan Lawrence"},{"$nulls":11},0]
[{"$f":"FEGL_MASTER!B72","v":0}]
[{"$f":"FEGL_MASTER!B73","v":"Team No. 9"},48,{"$nulls":3},10,48,10,null,null,10,null,{"v":126,"d":"$126.00"}]
[{"$f":"FEGL_MASTER!B74","v":"David Miley"},{"$nulls":11},0]
[{"$f":"FEGL_MASTER!B75","v":"Butch Morrison"},{"$nulls":11},0]
[{"$f":"FEGL_MASTER!B76","v":"Bruce Pruitt"},{"$nulls":5},3,{"$nulls":5},{"v":3,"d":"$3.00"}]
[{"$f":"FEGL_MASTER!B77","v":"Tony Wedgeworth"},8,{"$nulls":6},10,10,null,null,{"v":28,"d":"$28.00"}]
[{"$f":"FEGL_MASTER!B78","v":"Josh Lewis"},12,{"$nulls":10},{"v":12,"d":"$12.00"}]
[{"$f":"FEGL_MASTER!B79","v":"Rowdy Yates"},{"$nulls":5},3,{"$nulls":5},{"v":3,"d":"$3.00"}]
[{"$f":"FEGL_MASTER!B80","v":0},{"$nulls":11},0]
[{"$f":"FEGL_MASTER!B81","v":0}]
[{"$f":"FEGL_MASTER!B82","v":"Team No. 10"},null,48,null,48,10,null,10,null,null,10,96,{"v":222,"d":"$222.00"}]
[{"$f":"FEGL_MASTER!B83","v":"Frankie Kubenka"},null,12,null,6,{"$nulls":7},{"v":18,"d":"$18.00"}]
[{"$f":"FEGL_MASTER!B84","v":"Marty James"},{"$nulls":11},0]
[{"$f":"FEGL_MASTER!B85","v":"Oliver Benfer"},{"$nulls":11},0]
[{"$f":"FEGL_MASTER!B86","v":"Tom Marrs"},{"$nulls":11},0]
[{"$f":"FEGL_MASTER!B87","v":"Louis Gonzalez"},{"$nulls":11},0]
[{"$f":"FEGL_MASTER!B88","v":"J R Martinez"},{"$nulls":11},0]
[{"$f":"FEGL_MASTER!B89","v":"Joe Edmiston"},null,1,1,6,{"$nulls":7},{"v":8,"d":"$8.00"}]
[{"$f":"FEGL_MASTER!B90","v":0}]
[{"$f":"FEGL_MASTER!B91","v":"Team No. 11"},{"$nulls":4},10,null,10,null,40,10,240,{"v":310,"d":"$310.00"}]
[{"$f":"FEGL_MASTER!B92","v":"David Ayrault"},{"$nulls":5},3,{"$nulls":5},{"v":3,"d":"$3.00"}]
[{"$f":"FEGL_MASTER!B93","v":"Rick Ellis"},null,null,11,{"$nulls":8},{"v":11,"d":"$11.00"}]
[{"$f":"FEGL_MASTER!B94","v":"Steve Matney"},{"$nulls":11},0]
[{"$f":"FEGL_MASTER!B95","v":"Stewart Coley"},{"$nulls":11},0]
[{"$f":"FEGL_MASTER!B96","v":"Mitch Kaarlela"},{"$nulls":11},0]
[{"$f":"FEGL_MASTER!B97","v":"Rick Lang"},{"$nulls":3},10,{"$nulls":3},2,12,null,null,{"v":24,"d":"$24.00"}]
[{"$f":"FEGL_MASTER!B98","v":"Billy Coyle"},{"$nulls":3},12,{"$nulls":3},2,{"$nulls":3},{"v":14,"d":"$14.00"}]
[]
[{"$f":"FEGL_MASTER!B100","v":"Team No. 12"},{"$nulls":3},16,10,null,10,null,null,10,64,{"v":110,"d":"$110.00"}]
[{"$f":"FEGL_MASTER!B101","v":"Jason DeLong"},{"$nulls":11},0]
[{"$f":"FEGL_MASTER!B102","v":"Travis Libby"},null,1,{"$nulls":9},{"v":1,"d":"$1.00"}]
[{"$f":"FEGL_MASTER!B103","v":"Aaron Corby"},{"$nulls":7},2,{"$nulls":3},{"v":2,"d":"$2.00"}]
[{"$f":"FEGL_MASTER!B104","v":"Kyle Bottom"},{"$nulls":11},0]
[{"$f":"FEGL_MASTER!B105","v":"Brad Dittmar"},{"$nulls":11},0]
[{"$f":"FEGL_MASTER!B106","v":0},{"$nulls":11},0]
[{"$f":"FEGL_MASTER!B107","v":0},{"$nulls":11},0]
[{"$f":"FEGL_MASTER!B99","v":0}]
["Totals",{"$f":"SUM(B2:B109)","v":{"v":124,"d":"$124.00"}},{"$f":"SUM(C2:C109)","v":{"v":124,"d":"$124.00"}},{"v":124,"d":"$124.00"},{"v":124,"d":"$124.00"},{"v":120,"d":"$120.00"},{"v":121,"d":"$121.00"},{"v":120,"d":"$120.00"},{"v":122,"d":"$122.00"},{"v":124,"d":"$124.00"},{"v":120,"d":"$120.00"},{"v":400,"d":"$400.00"},{"$f":"IF(SUM(M2:M109)=SUM(B110:L110),SUM(B110:L110),\"XFOOT ERROR!\")","v":{"v":1623,"d":"$1,623.00"}}]

{"sheet":"$B","index":4,"n_rows":92,"n_cols":13,"rows_kept":92}
[null,"Week 1","Week 2","Week 3","Week 4","Week 5","Week 6","Week 7","Week 8","Week 9","Week10","Division","Total"]
[{"$f":"FEGL_MASTER!B109","v":"Team No. 13"},{"$nulls":4},10,26,10,null,null,10,null,{"$f":"SUM(B2:L2)","v":{"v":56,"d":"$56.00"}}]
[{"$f":"FEGL_MASTER!B110","v":"Charlie Lambert"},{"$nulls":11},0]
[{"$f":"FEGL_MASTER!B111","v":"DeWayne Cox"},{"$nulls":5},2,{"$nulls":5},{"v":2,"d":"$2.00"}]
[{"$f":"FEGL_MASTER!B112","v":"Joe Andrews"},{"$nulls":5},2,null,6,10,null,null,{"v":18,"d":"$18.00"}]
[{"$f":"FEGL_MASTER!B113","v":"Dan Longeway"},{"$nulls":11},0]
[{"$f":"FEGL_MASTER!B114","v":"Cheryl Lambert"},{"$nulls":8},10,null,null,{"v":10,"d":"$10.00"}]
[{"$f":"FEGL_MASTER!B115","v":0},{"$nulls":11},0]
[{"$f":"FEGL_MASTER!B116","v":0},{"$nulls":11},0]
[{"$f":"FEGL_MASTER!B117","v":0},{"$nulls":11}," "]
[{"$f":"FEGL_MASTER!B118","v":"Team No. 14"},{"$nulls":4},10,null,10,26,null,10,null,{"v":56,"d":"$56.00"}]
[{"$f":"FEGL_MASTER!B119","v":"Bob Bienski"},{"$nulls":11},0]
[{"$f":"FEGL_MASTER!B120","v":"James Barkelew"},{"$nulls":11},0]
[{"$f":"FEGL_MASTER!B121","v":"Wayne Maddox"},{"$nulls":3},6,{"$nulls":3},10,{"$nulls":3},{"v":16,"d":"$16.00"}]
[{"$f":"FEGL_MASTER!B122","v":"Jack Young"},{"$nulls":11},0]
[{"$f":"FEGL_MASTER!B123","v":"Jorge Cornejo"},{"$nulls":11},0]
[{"$f":"FEGL_MASTER!B124","v":"Garnett Andrews"},{"$nulls":11},0]
[{"$f":"FEGL_MASTER!B125","v":"Jerry Burns"},{"$nulls":11},0]
[{"$f":"FEGL_MASTER!B126","v":0}]
[{"$f":"FEGL_MASTER!B127","v":"Team No. 15"},26,null,40,null,10,null,10,null,26,10,null,{"v":122,"d":"$122.00"}]
[{"$f":"FEGL_MASTER!B128","v":"Dave Utech"},10,{"$nulls":10},{"v":10,"d":"$10.00"}]
[{"$f":"FEGL_MASTER!B129","v":"Bill Rater"},{"$nulls":11},0]
[{"$f":"FEGL_MASTER!B130","v":"Gary Keller"},null,null,6,null,null,10,{"$nulls":5},{"v":16,"d":"$16.00"}]
[{"$f":"FEGL_MASTER!B131","v":"James Miller"},{"$nulls":11},0]
[{"$f":"FEGL_MASTER!B132","v":"Gary Howard"},{"$nulls":8},10,null,null,{"v":10,"d":"$10.00"}]
[{"$f":"FEGL_MASTER!B133","v":"Kevan Western"},{"$nulls":11},0]
[{"$f":"FEGL_MASTER!B134","v":"Mark Johnston"},{"$nulls":11},0]
[{"$f":"FEGL_MASTER!B135","v":0}]
[{"$f":"FEGL_MASTER!B136","v":"Team No. 16"},{"$nulls":4},10,null,10,null,null,10,80,{"v":110,"d":"$110.00"}]
[{"$f":"FEGL_MASTER!B137","v":"Ken Wood"},{"$nulls":11},0]
[{"$f":"FEGL_MASTER!B138","v":"Paul Rowland"},{"$nulls":11},0]
[{"$f":"FEGL_MASTER!B139","v":"Mike Hester"},{"$nulls":11},0]
[{"$f":"FEGL_MASTER!B140","v":"Scott Horn"},{"$nulls":11},0]
[{"$f":"FEGL_MASTER!B141","v":"Kevin Smiley"},null,null,1,{"$nulls":4},10,{"$nulls":3},{"v":11,"d":"$11.00"}]
[{"$f":"FEGL_MASTER!B142","v":"Lance Eddins"},{"$nulls":11},0]
[{"$f":"FEGL_MASTER!B143","v":"William Renshaw"},null,10,{"$nulls":9},{"v":10,"d":"$10.00"}]
[{"$f":"FEGL_MASTER!B144","v":0}]
[{"$f":"FEGL_MASTER!B145","v":"Team No. 17"},40,null,26,null,10,null,10,null,40,10,52,{"v":188,"d":"$188.00"}]
[{"$f":"FEGL_MASTER!B146","v":"Danny Watson"},{"$nulls":11},0]
[{"$f":"FEGL_MASTER!B147","v":"Billy Keck"},null,null,20,{"$nulls":8},{"v":20,"d":"$20.00"}]
[{"$f":"FEGL_MASTER!B148","v":"Scott Conder"},{"$nulls":11},0]
[{"$f":"FEGL_MASTER!B149","v":"Richard Roye"},{"$nulls":11},0]
[{"$f":"FEGL_MASTER!B150","v":"Phil Rigdon"},{"$nulls":7},10,{"$nulls":3},{"v":10,"d":"$10.00"}]
[{"$f":"FEGL_MASTER!B151","v":0},{"$nulls":11},0]
[{"$f":"FEGL_MASTER!B152","v":0},{"$nulls":11},0]
[{"$f":"FEGL_MASTER!B153","v":0}]
[{"$f":"FEGL_MASTER!B154","v":"Team No. 18"},null,26,null,null,10,null,10,null,null,10,null,{"v":56,"d":"$56.00"}]
[{"$f":"FEGL_MASTER!B155","v":"Rob Donald"},{"$nulls":11},0]
[{"$f":"FEGL_MASTER!B156","v":"Steve Shinn"},null,null,1,{"$nulls":8},{"v":1,"d":"$1.00"}]
[{"$f":"FEGL_MASTER!B157","v":"Eric Gunn"},null,4,{"$nulls":5},1,{"$nulls":3},{"v":5,"d":"$5.00"}]
[{"$f":"FEGL_MASTER!B158","v":"John Supra"},{"$nulls":11},0]
[{"$f":"FEGL_MASTER!B159","v":"Ann Godbey"},{"$nulls":11},0]
[{"$f":"FEGL_MASTER!B160","v":"Ryan Monroe"},{"$nulls":11},0]
[{"$f":"FEGL_MASTER!B161","v":0},{"$nulls":11},0]
[{"$f":"FEGL_MASTER!B162","v":0}]
[{"$f":"FEGL_MASTER!B163","v":"Team No. 19"},{"$nulls":3},26,10,null,10,null,null,10,200,{"v":256,"d":"$256.00"}]
[{"$f":"FEGL_MASTER!B164","v":"Ken Fairchild"},{"$nulls":7},1,{"$nulls":3},{"v":1,"d":"$1.00"}]
[{"$f":"FEGL_MASTER!B165","v":"Tim Edwards"},{"$nulls":5},10,{"$nulls":5},{"$f":"SUM(B58:L58)","v":{"v":10,"d":"$10.00"}}]
[{"$f":"FEGL_MASTER!B166","v":"Jerry Burns"},{"$nulls":11},0]
[{"$f":"FEGL_MASTER!B167","v":"Ranier Woods"},{"$nulls":7},1,{"$nulls":3},{"v":1,"d":"$1.00"}]
[{"$f":"FEGL_MASTER!B168","v":"Dale Rostamo"},null,null,10,20,{"$nulls":7},{"v":30,"d":"$30.00"}]
[{"$f":"FEGL_MASTER!B169","v":"James Prescott"},{"$nulls":11},0]
[{"$f":"FEGL_MASTER!B170","v":0},{"$nulls":11},0]
[{"$f":"FEGL_MASTER!B171","v":0}]
[{"$f":"FEGL_MASTER!B172","v":"Team No. 20"},null,40,null,null,10,null,10,null,null,10,null,{"v":70,"d":"$70.00"}]
[{"$f":"FEGL_MASTER!B173","v":"Dennis Weber"},{"$nulls":11},0]
[{"$f":"FEGL_MASTER!B174","v":"Bill Gault"},{"$nulls":11},0]
[{"$f":"FEGL_MASTER!B175","v":"Wayne McCleery"},{"$nulls":11},0]
[{"$f":"FEGL_MASTER!B176","v":"Dan Todd"},{"$nulls":11},0]
[{"$f":"FEGL_MASTER!B177","v":"Ken McPherson"},null,14,{"$nulls":9},{"v":14,"d":"$14.00"}]
[{"$f":"FEGL_MASTER!B178","v":"Roy Ooten"},null,10,{"$nulls":9},{"v":10,"d":"$10.00"}]
[{"$f":"FEGL_MASTER!B179","v":"Sam Satcher"},{"$nulls":11},0]
[{"$f":"FEGL_MASTER!B180","v":0}]
[{"$f":"FEGL_MASTER!B181","v":"Team No. 21"},{"$nulls":4},10,40,10,40,null,10,null,{"v":110,"d":"$110.00"}]
[{"$f":"FEGL_MASTER!B182","v":"Jeff Holmlund"},{"$nulls":11},0]
[{"$f":"FEGL_MASTER!B183","v":"John Miles"},{"$nulls":11},0]
[{"$f":"FEGL_MASTER!B184","v":"Stephen Taylor"},{"$nulls":11},0]
[{"$f":"FEGL_MASTER!B185","v":"Kim Autry"},{"$nulls":11},0]
[{"$f":"FEGL_MASTER!B186","v":"Gerry Norvell"},10,{"$nulls":7},10,null,null,{"v":20,"d":"$20.00"}]
[{"$f":"FEGL_MASTER!B187","v":"Ed Blosch"},{"$nulls":5},6,null,1,{"$nulls":3},{"v":7,"d":"$7.00"}]
[{"$f":"FEGL_MASTER!B188","v":0},{"$nulls":11},0]
[{"$f":"FEGL_MASTER!B189","v":0}]
[{"$f":"FEGL_MASTER!B190","v":"Team No. 22"},{"$nulls":3},40,10,null,10,null,null,10,null,{"v":70,"d":"$70.00"}]
[{"$f":"FEGL_MASTER!B191","v":"Wes Zwerneman"},10,null,null,3,null,10,{"$nulls":5},{"v":23,"d":"$23.00"}]
[{"$f":"FEGL_MASTER!B192","v":"Bob Eller"},null,null,1,{"$nulls":8},{"v":1,"d":"$1.00"}]
[{"$f":"FEGL_MASTER!B193","v":"Danny Rodriguez"},{"$nulls":7},1,{"$nulls":3},{"v":1,"d":"$1.00"}]
[{"$f":"FEGL_MASTER!B194","v":"Greg Stagg"},{"$nulls":11},0]
[{"$f":"FEGL_MASTER!B195","v":"John Bessolo"},{"$nulls":11},0]
[{"$f":"FEGL_MASTER!B196","v":"Mike Brechbuhl"},{"$nulls":3},10,{"$nulls":7},{"v":10,"d":"$10.00"}]
[{"$f":"FEGL_MASTER!B197","v":0},{"$nulls":11},0]
[{"$f":"FEGL_MASTER!B198","v":0}]
["Totals",{"$f":"SUM(B2:B91)","v":{"v":96,"d":"$96.00"}},{"$f":"SUM(C2:C91)","v":{"v":104,"d":"$104.00"}},{"v":105,"d":"$105.00"},{"v":105,"d":"$105.00"},{"v":100,"d":"$100.00"},{"v":106,"d":"$106.00"},{"v":100,"d":"$100.00"},{"v":107,"d":"$107.00"},{"v":106,"d":"$106.00"},{"v":100,"d":"$100.00"},{"v":332,"d":"$332.00"},{"$f":"IF(SUM(M2:M91)=SUM(B92:L92),SUM(B92:L92),\"Xfoot Error!\")","v":{"v":1361,"d":"$1,361.00"}}]

{"sheet":"Schedule","index":5,"n_rows":36,"n_cols":18,"rows_kept":36}
["week",null,null,1,2,"3-4","5-6","7-8","9"," ",10,11,"12-13","14-15","16-17",18]
[]
["1",null,"3/29","1-2","3-4","5-6","7-8","9-10","11-12",null,"13-14","15-16","17-18","19-20","21-22",null," "]
[]
["2",null,"4/5","13-15","20-21","14-16","17-19","18-22",null,null,"10-12","1-3","2-4","5-7","6-8","9-11"]
[]
["3",null,"4/12","8-11","6-10","9-12","3-7","1-4","2-5",null,"13-16","15-21","18-20","19-22","14-17",null," "]
[]
["4",null,"4/19","13-17","20-22","15-19","14-18","16-21",null,null,"8-10","3-9","7-11","1-5","2-6","4-12"]
[]
["5",null,"4/26","3-8","7-10","1-6","2-12","5-9","4-11",null,"13-18","16-22","17-21","14-19","15-20",null,null," "]
[null,null," "]
["6",null,"5/3","13-19","16-17","18-21","15-22","14-20",null,null,"3-12","1-7","2-8","5-10","6-11","4-9"]
[]
["7",null,"5/10","1-8","2-9","5-11","6-12","3-10","4-7",null,"13-20","15-17","16-18","19-22","14-21"]
[]
["8",null,"5/17","13-21","14-22","15-18","16-19","17-20",null,null,"2-10","5-12","4-8","6-7","3-11","1-9"]
[]
["9",null,"5/24","4-5","3-6","7-9","8-12","1-10","2-11",null,"13-22","14-15","17-21","16-20","18-19"]
[]
["10",null,"5/31","13-14","17-22","18-20","15-16","19-21",null,null,"4-6","10-11","8-9","1-12","2-7","3-5"]
[]
[]
[" ","TM",null,"Captain",null,null,"Ext.",{"$nulls":3},"TM",null,"Captain",null,null,"Ext."]
[null,1,null,{"$f":"Captains!C3","v":"Danny Vrla"},null,null,{"$f":"Captains!D3","v":21990}]
[null,2,null,{"$f":"Captains!C4","v":"Bill Blackwell"},null,null,{"$f":"Captains!D4","v":" 300-4915"},{"$nulls":3},13,null,{"$f":"Captains!C16","v":"Charlie Lambert"},null,null,{"$f":"Captains!D16","v":"675-7505"}]
[null,3,null,{"$f":"Captains!C5","v":"Craig Treece"},null,null,{"$f":"Captains!D5","v":"988-4895"},{"$nulls":3},14,null,{"$f":"Captains!C17","v":"Bob Bienski"},null,null,{"$f":"Captains!D17","v":"521-8043"}]
[null,4,null,{"$f":"Captains!C6","v":"Roy Mayes"},null,null,{"$f":"Captains!D6","v":"980-5175"},{"$nulls":3},15,null,{"$f":"Captains!C18","v":"Dave Utech"},null,null,{"$f":"Captains!D18","v":53074}]
[null,5,null,{"$f":"Captains!C7","v":"Carl Jettun"},null,null,{"$f":"Captains!D7","v":76907},{"$nulls":3},16,null,{"$f":"Captains!C19","v":"Ken Wood"},null,null,{"$f":"Captains!D19","v":"987-9538"}]
[null,6,null,{"$f":"Captains!C8","v":"Chris Sell"},null,null,{"$f":"Captains!D8","v":32476},{"$nulls":3},17,null,{"$f":"Captains!C20","v":"Danny Watson"},null,null,{"$f":"Captains!D20","v":"229-7747 "}]
[null,7,null,{"$f":"Captains!C9","v":"Mike Kimble"},null,null,{"$f":"Captains!D9","v":"797-7889"},{"$nulls":3},18,null,{"$f":"Captains!C21","v":"Rob Donald"},null,null,{"$f":"Captains!D21","v":"682-444-6503"}]
[null,8,null,{"$f":"Captains!C10","v":"Dennis McBrayer"},null,null,{"$f":"Captains!D10","v":73500},{"$nulls":3},19,null,{"$f":"Captains!C22","v":"Ken Fairchild"},null,null,{"$f":"Captains!D22","v":77828}]
[null,9,null,{"$f":"Captains!C11","v":"David Miley"},null,null,{"$f":"Captains!D11","v":"319-6593"},{"$nulls":3},20,null,{"$f":"Captains!C23","v":"Dennis Weber"},null,null,{"$f":"Captains!D23","v":"903-9973"}]
[null,10,null,{"$f":"Captains!C12","v":"Frankie Kubenka"},null,null,{"$f":"Captains!D12","v":76021},{"$nulls":3},21,null,{"$f":"Captains!C24","v":"Jeff Holmlund"},null,null,{"$f":"Captains!D24","v":"378-2617"}]
[null,11,null,{"$f":"Captains!C13","v":"David Ayrault"},null,null,{"$f":"Captains!D13","v":23121},{"$nulls":3},22,null,{"$f":"Captains!C25","v":"Wes Zwerneman"},null,null,{"$f":"Captains!D25","v":"228-6901"}]
[null,12,null,{"$f":"Captains!C14","v":"Jason DeLong"},null,null,{"$f":"Captains!D14","v":"903-275-9026"}]

{"sheet":"Captains","index":6,"n_rows":25,"n_cols":6,"rows_kept":25}
["Division","Team #","Name","Phone","Paid","Quota avg"]
[{"$nulls":5},"start"]
["A",1,{"$f":"FEGL_MASTER!B2","v":"Danny Vrla"},{"$f":"FEGL_MASTER!D2","v":21990},{"v":140,"d":"$140"},{"$f":"FEGL_MASTER!C9","v":20.8}]
["A",2,{"$f":"FEGL_MASTER!B11","v":"Bill Blackwell"},{"$f":"FEGL_MASTER!D11","v":" 300-4915"},{"v":140,"d":"$140"},{"$f":"FEGL_MASTER!C18","v":{"v":21.666666666666668,"d":"21.7"}}]
["A",3,{"$f":"FEGL_MASTER!B20","v":"Craig Treece"},{"$f":"FEGL_MASTER!D20","v":"988-4895"},{"v":140,"d":"$140"},{"$f":"FEGL_MASTER!C27","v":19.6}]
["A",4,{"$f":"FEGL_MASTER!B29","v":"Roy Mayes"},{"$f":"FEGL_MASTER!D29","v":"980-5175"},{"v":140,"d":"$140"},{"$f":"FEGL_MASTER!C36","v":18.2}]
["A",5,{"$f":"FEGL_MASTER!B38","v":"Carl Jettun"},{"$f":"FEGL_MASTER!D38","v":76907},{"v":140,"d":"$140"},{"$f":"FEGL_MASTER!C45","v":{"v":18.666666666666668,"d":"18.7"}}]
["A",6,{"$f":"FEGL_MASTER!B47","v":"Chris Sell"},{"$f":"FEGL_MASTER!D47","v":32476},{"v":140,"d":"$140"},{"$f":"FEGL_MASTER!C54","v":{"v":17.166666666666668,"d":"17.2"}}]
["A",7,{"$f":"FEGL_MASTER!B56","v":"Mike Kimble"},{"$f":"FEGL_MASTER!D56","v":"797-7889"},{"v":140,"d":"$140"},{"$f":"FEGL_MASTER!C63","v":19.2}]
["A",8,{"$f":"FEGL_MASTER!B65","v":"Dennis McBrayer"},{"$f":"FEGL_MASTER!D65","v":73500},{"v":140,"d":"$140"},{"$f":"FEGL_MASTER!C72","v":{"v":19.428571428571427,"d":"19.4"}}]
["A",9,{"$f":"FEGL_MASTER!B74","v":"David Miley"},{"$f":"FEGL_MASTER!D74","v":"319-6593"},{"v":140,"d":"$140"},{"$f":"FEGL_MASTER!C81","v":{"v":14.833333333333334,"d":"14.8"}}]
["A",10,{"$f":"FEGL_MASTER!B83","v":"Frankie Kubenka"},{"$f":"FEGL_MASTER!D83","v":76021},{"v":140,"d":"$140"},{"$f":"FEGL_MASTER!C90","v":{"$error":"#DIV/0!"}}]
["A",11,{"$f":"FEGL_MASTER!B92","v":"David Ayrault"},{"$f":"FEGL_MASTER!D92","v":23121},{"v":140,"d":"$140"},{"$f":"FEGL_MASTER!C99","v":{"$error":"#DIV/0!"}}]
["A",12,{"$f":"FEGL_MASTER!B101","v":"Jason DeLong"},{"$f":"FEGL_MASTER!D101","v":"903-275-9026"},{"v":140,"d":"$140"},{"$f":"FEGL_MASTER!C108","v":19.8}]
[]
["B",13,{"$f":"FEGL_MASTER!B110","v":"Charlie Lambert"},{"$f":"FEGL_MASTER!D110","v":"675-7505"},{"v":140,"d":"$140"},{"$f":"FEGL_MASTER!C117","v":{"v":15,"d":"15.0"}}]
["B",14,{"$f":"FEGL_MASTER!B119","v":"Bob Bienski"},{"$f":"FEGL_MASTER!D119","v":"521-8043"},{"v":140,"d":"$140"},{"$f":"FEGL_MASTER!C126","v":{"v":14.714285714285714,"d":"14.7"}}]
["B",15,{"$f":"FEGL_MASTER!B128","v":"Dave Utech"},{"$f":"FEGL_MASTER!D128","v":53074},{"v":140,"d":"$140"},{"$f":"FEGL_MASTER!C135","v":{"v":15.428571428571429,"d":"15.4"}}]
["B",16,{"$f":"FEGL_MASTER!B137","v":"Ken Wood"},{"$f":"FEGL_MASTER!D137","v":"987-9538"},{"v":140,"d":"$140"},{"$f":"FEGL_MASTER!C144","v":{"v":16,"d":"16.0"}}]
["B",17,{"$f":"FEGL_MASTER!B146","v":"Danny Watson"},{"$f":"FEGL_MASTER!D146","v":"229-7747 "},{"v":140,"d":"$140"},{"$f":"FEGL_MASTER!C153","v":{"v":15,"d":"15.0"}}]
["B",18,{"$f":"FEGL_MASTER!B155","v":"Rob Donald"},{"$f":"FEGL_MASTER!D155","v":"682-444-6503"},{"v":140,"d":"$140"},{"$f":"FEGL_MASTER!C162","v":12.5}]
["B",19,{"$f":"FEGL_MASTER!B164","v":"Ken Fairchild"},{"$f":"FEGL_MASTER!D164","v":77828},{"v":140,"d":"$140"},{"$f":"FEGL_MASTER!C171","v":{"v":13.333333333333334,"d":"13.3"}}]
["B",20,{"$f":"FEGL_MASTER!B173","v":"Dennis Weber"},{"$f":"FEGL_MASTER!D173","v":"903-9973"},{"v":140,"d":"$140"},{"$f":"FEGL_MASTER!C180","v":{"v":12.857142857142858,"d":"12.9"}}]
["B",21,{"$f":"FEGL_MASTER!B182","v":"Jeff Holmlund"},{"$f":"FEGL_MASTER!D182","v":"378-2617"},{"v":140,"d":"$140"},{"$f":"FEGL_MASTER!C189","v":14.5}]
["B",22,{"$f":"FEGL_MASTER!B191","v":"Wes Zwerneman"},{"$f":"FEGL_MASTER!D191","v":"228-6901"},{"v":140,"d":"$140"},{"$f":"FEGL_MASTER!C198","v":{"v":14.166666666666666,"d":"14.2"}}]

{"sheet":"Quota","index":7,"n_rows":96,"n_cols":4,"rows_kept":96}
["18 Hole",null,"9 Hole"]
[0,71,0,25]
[1,72,1,25]
[2,73,1,25]
[3,74,2,25]
[4,75,2,25]
[5,76,3,24]
[6,77,3,24]
[7,78,4,23]
[8,79,4,23]
[9,80,5,22]
[10,81,5,22]
[11,82,6,21]
[12,83,6,21]
[13,84,7,20]
[14,85,7,20]
[15,86,8,19]
[16,87,8,19]
[17,88,9,18]
[18,89,9,18]
[19,90,10,17]
[20,91,10,17]
[21,92,11,16]
[22,93,11,16]
[23,94,12,15]
[24,95,12,15]
[25,96,13,14]
[26,97,13,14]
[27,98,14,13]
[28,99,14,13]
[29,100,15,12]
[30,101,15,12]
[31,102,16,11]
[32,103,16,11]
[33,104,null,10]
[34,105,null,10]
[35,106,null,9]
[36,107,null,9]
[37,108]
[38,109]
[39,110]
{"$rows_empty":47}
[298]
[18]
[42]
[50]
[26.25]
[42]
[{"$f":"7*105","v":735}]
[{"$f":"SUM(A89:A95)","v":1211.25}]

{"sheet":"$Out","index":8,"n_rows":25,"n_cols":5,"rows_kept":25}
["Division","Team #","Captain","$ Won","Paid by Signature"]
[]
["A",1,{"$f":"FEGL_MASTER!B2","v":"Danny Vrla"},{"$f":"SUM('$A'!M2:M9)","v":{"v":137,"d":"$137.00"}}]
["A",2,{"$f":"FEGL_MASTER!B11","v":"Bill Blackwell"},{"$f":"SUM('$A'!M11:M18)","v":{"v":40,"d":"$40.00"}}]
["A",3,{"$f":"FEGL_MASTER!B20","v":"Craig Treece"},{"$f":"SUM('$A'!M20:M27)","v":{"v":62,"d":"$62.00"}}]
["A",4,{"$f":"FEGL_MASTER!B29","v":"Roy Mayes"},{"$f":"SUM('$A'!M29:M36)","v":{"v":71,"d":"$71.00"}}]
["A",5,{"$f":"FEGL_MASTER!B38","v":"Carl Jettun"},{"$f":"SUM('$A'!M38:M45)","v":{"v":124,"d":"$124.00"}}]
["A",6,{"$f":"FEGL_MASTER!B47","v":"Chris Sell"},{"$f":"SUM('$A'!M47:M54)","v":{"v":85,"d":"$85.00"}}]
["A",7,{"$f":"FEGL_MASTER!B56","v":"Mike Kimble"},{"$f":"SUM('$A'!M56:M63)","v":{"v":165,"d":"$165.00"}}]
["A",8,{"$f":"FEGL_MASTER!B65","v":"Dennis McBrayer"},{"$f":"SUM('$A'!M65:M72)","v":{"v":44,"d":"$44.00"}}]
["A",9,{"$f":"FEGL_MASTER!B74","v":"David Miley"},{"$f":"SUM('$A'!M74:M81)","v":{"v":172,"d":"$172.00"}}]
["A",10,{"$f":"FEGL_MASTER!B83","v":"Frankie Kubenka"},{"$f":"SUM('$A'!M83:M90)","v":{"v":248,"d":"$248.00"}}]
["A",11,{"$f":"FEGL_MASTER!B92","v":"David Ayrault"},{"$f":"SUM('$A'!M92:M99)","v":{"v":362,"d":"$362.00"}}]
["A",12,{"$f":"FEGL_MASTER!B101","v":"Jason DeLong"},{"$f":"SUM('$A'!M101:M108)","v":{"v":113,"d":"$113.00"}}]
[]
["B",13,{"$f":"FEGL_MASTER!B110","v":"Charlie Lambert"},{"$f":"SUM('$B'!M2:M9)","v":{"v":86,"d":"$86.00"}}]
["B",14,{"$f":"FEGL_MASTER!B119","v":"Bob Bienski"},{"$f":"SUM('$B'!M11:M18)","v":{"v":72,"d":"$72.00"}}]
["B",15,{"$f":"FEGL_MASTER!B128","v":"Dave Utech"},{"$f":"SUM('$B'!M20:M27)","v":{"v":158,"d":"$158.00"}}]
["B",16,{"$f":"FEGL_MASTER!B137","v":"Ken Wood"},{"$f":"SUM('$B'!M29:M36)","v":{"v":131,"d":"$131.00"}}]
["B",17,{"$f":"FEGL_MASTER!B146","v":"Danny Watson"},{"$f":"SUM('$B'!M38:M45)","v":{"v":218,"d":"$218.00"}}]
["B",18,{"$f":"FEGL_MASTER!B155","v":"Rob Donald"},{"$f":"SUM('$B'!M47:M54)","v":{"v":62,"d":"$62.00"}}]
["B",19,{"$f":"FEGL_MASTER!B164","v":"Ken Fairchild"},{"$f":"SUM('$B'!M56:M63)","v":{"v":298,"d":"$298.00"}}]
["B",20,{"$f":"FEGL_MASTER!B173","v":"Dennis Weber"},{"$f":"SUM('$B'!M65:M72)","v":{"v":94,"d":"$94.00"}}]
["B",21,{"$f":"FEGL_MASTER!B182","v":"Jeff Holmlund"},{"$f":"SUM('$B'!M74:M81)","v":{"v":137,"d":"$137.00"}}]
["B",22,{"$f":"FEGL_MASTER!B191","v":"Wes Zwerneman"},{"$f":"SUM('$B'!M83:M90)","v":{"v":105,"d":"$105.00"}}]

{"sheet":"Sheet1","index":9,"n_rows":0,"n_cols":0,"rows_kept":0}